BEGIN:VCALENDAR
VERSION:2.0
PRODID:-//Northwestern Health Sciences University - ECPv6.15.20//NONSGML v1.0//EN
CALSCALE:GREGORIAN
METHOD:PUBLISH
X-WR-CALNAME:Northwestern Health Sciences University
X-ORIGINAL-URL:https://www.nwhealth.edu
X-WR-CALDESC:Events for Northwestern Health Sciences University
REFRESH-INTERVAL;VALUE=DURATION:PT1H
X-Robots-Tag:noindex
X-PUBLISHED-TTL:PT1H
BEGIN:VTIMEZONE
TZID:America/Chicago
BEGIN:DAYLIGHT
TZOFFSETFROM:-0600
TZOFFSETTO:-0500
TZNAME:CDT
DTSTART:20230312T080000
END:DAYLIGHT
BEGIN:STANDARD
TZOFFSETFROM:-0500
TZOFFSETTO:-0600
TZNAME:CST
DTSTART:20231105T070000
END:STANDARD
BEGIN:DAYLIGHT
TZOFFSETFROM:-0600
TZOFFSETTO:-0500
TZNAME:CDT
DTSTART:20240310T080000
END:DAYLIGHT
BEGIN:STANDARD
TZOFFSETFROM:-0500
TZOFFSETTO:-0600
TZNAME:CST
DTSTART:20241103T070000
END:STANDARD
BEGIN:DAYLIGHT
TZOFFSETFROM:-0600
TZOFFSETTO:-0500
TZNAME:CDT
DTSTART:20250309T080000
END:DAYLIGHT
BEGIN:STANDARD
TZOFFSETFROM:-0500
TZOFFSETTO:-0600
TZNAME:CST
DTSTART:20251102T070000
END:STANDARD
END:VTIMEZONE
BEGIN:VEVENT
DTSTART;TZID=America/Chicago:20241115T170000
DTEND;TZID=America/Chicago:20241115T210000
DTSTAMP:20260423T154129
CREATED:20240826T152903Z
LAST-MODIFIED:20240917T201441Z
UID:29435-1731690000-1731704400@www.nwhealth.edu
SUMMARY:48 Hour Nutrition Certificate #3 of 4: Toxicity
DESCRIPTION:
URL:https://www.nwhealth.edu/event/48-hour-nutrition-certificate-3-of-4-toxicity/2024-11-15/
LOCATION:Northwestern Health Sciences University\, 2501 West 84th Street\, Bloomington\, MN\, 55431\, United States
CATEGORIES:Continuing Education
ORGANIZER;CN="Northwestern Health Sciences University":MAILTO:info@nwhealth.edu
END:VEVENT
BEGIN:VEVENT
DTSTART;TZID=America/Chicago:20241115T160000
DTEND;TZID=America/Chicago:20241115T200000
DTSTAMP:20260423T154129
CREATED:20240826T153024Z
LAST-MODIFIED:20240917T201613Z
UID:29437-1731686400-1731700800@www.nwhealth.edu
SUMMARY:Dynamic Neuromuscular Dry Needling
DESCRIPTION:
URL:https://www.nwhealth.edu/event/dynamic-neuromuscular-dry-needling/2024-11-15/
LOCATION:Northwestern Health Sciences University\, 2501 West 84th Street\, Bloomington\, MN\, 55431\, United States
CATEGORIES:Continuing Education
ORGANIZER;CN="Northwestern Health Sciences University":MAILTO:info@nwhealth.edu
END:VEVENT
BEGIN:VEVENT
DTSTART;TZID=America/Chicago:20241103T090000
DTEND;TZID=America/Chicago:20241103T140000
DTSTAMP:20260423T154129
CREATED:20240826T152525Z
LAST-MODIFIED:20240917T201408Z
UID:29433-1730624400-1730642400@www.nwhealth.edu
SUMMARY:CCSP Hands on: Emergency Procedures and Taping for the Sports Chiropractor
DESCRIPTION:
URL:https://www.nwhealth.edu/event/ccsp-hands-on-emergency-procedures-and-taping-for-the-sports-chiropractor/2024-11-03/
LOCATION:Northwestern Health Sciences University\, 2501 West 84th Street\, Bloomington\, MN\, 55431\, United States
CATEGORIES:Continuing Education
ORGANIZER;CN="Northwestern Health Sciences University":MAILTO:info@nwhealth.edu
END:VEVENT
BEGIN:VEVENT
DTSTART;TZID=America/Chicago:20241102T090000
DTEND;TZID=America/Chicago:20241102T170000
DTSTAMP:20260423T154129
CREATED:20240826T152525Z
LAST-MODIFIED:20240917T201408Z
UID:29432-1730538000-1730566800@www.nwhealth.edu
SUMMARY:CCSP Hands on: Emergency Procedures and Taping for the Sports Chiropractor
DESCRIPTION:
URL:https://www.nwhealth.edu/event/ccsp-hands-on-emergency-procedures-and-taping-for-the-sports-chiropractor/2024-11-02/
LOCATION:Northwestern Health Sciences University\, 2501 West 84th Street\, Bloomington\, MN\, 55431\, United States
CATEGORIES:Continuing Education
ORGANIZER;CN="Northwestern Health Sciences University":MAILTO:info@nwhealth.edu
END:VEVENT
BEGIN:VEVENT
DTSTART;TZID=America/Chicago:20241101T170000
DTEND;TZID=America/Chicago:20241101T210000
DTSTAMP:20260423T154129
CREATED:20240826T152525Z
LAST-MODIFIED:20240917T201407Z
UID:29430-1730480400-1730494800@www.nwhealth.edu
SUMMARY:CCSP Hands on: Emergency Procedures and Taping for the Sports Chiropractor
DESCRIPTION:
URL:https://www.nwhealth.edu/event/ccsp-hands-on-emergency-procedures-and-taping-for-the-sports-chiropractor/2024-11-01/
LOCATION:Northwestern Health Sciences University\, 2501 West 84th Street\, Bloomington\, MN\, 55431\, United States
CATEGORIES:Continuing Education
ORGANIZER;CN="Northwestern Health Sciences University":MAILTO:info@nwhealth.edu
END:VEVENT
BEGIN:VEVENT
DTSTART;TZID=America/Chicago:20241026T090000
DTEND;TZID=America/Chicago:20241026T110000
DTSTAMP:20260423T154129
CREATED:20240826T141010Z
LAST-MODIFIED:20240826T141235Z
UID:29422-1729933200-1729940400@www.nwhealth.edu
SUMMARY:Navigating Energy: A Workshop for Healthcare Providers
DESCRIPTION:
URL:https://www.nwhealth.edu/event/rental-navigating-energy-a-workshop-for-healthcare-providers/
LOCATION:Northwestern Health Sciences University\, 2501 West 84th Street\, Bloomington\, MN\, 55431\, United States
CATEGORIES:Continuing Education
ORGANIZER;CN="Continuing Education":MAILTO:continuinged@nwhealth.edu
END:VEVENT
BEGIN:VEVENT
DTSTART;TZID=America/Chicago:20241012T090000
DTEND;TZID=America/Chicago:20241012T180000
DTSTAMP:20260423T154129
CREATED:20240816T181958Z
LAST-MODIFIED:20240917T201225Z
UID:29328-1728723600-1728756000@www.nwhealth.edu
SUMMARY:48 Hour Nutrition Certificate #2 of 4: GI Conditions
DESCRIPTION:
URL:https://www.nwhealth.edu/event/rental-48-hour-nutrition-certificate-2-of-4-gi-conditions/2024-10-12/
LOCATION:Northwestern Health Sciences University\, 2501 West 84th Street\, Bloomington\, MN\, 55431\, United States
CATEGORIES:Continuing Education
ORGANIZER;CN="Northwestern Health Sciences University":MAILTO:info@nwhealth.edu
END:VEVENT
BEGIN:VEVENT
DTSTART;TZID=America/Chicago:20241011T170000
DTEND;TZID=America/Chicago:20241011T210000
DTSTAMP:20260423T154129
CREATED:20240816T181958Z
LAST-MODIFIED:20240917T201225Z
UID:29327-1728666000-1728680400@www.nwhealth.edu
SUMMARY:48 Hour Nutrition Certificate #2 of 4: GI Conditions
DESCRIPTION:
URL:https://www.nwhealth.edu/event/rental-48-hour-nutrition-certificate-2-of-4-gi-conditions/2024-10-11/
LOCATION:Northwestern Health Sciences University\, 2501 West 84th Street\, Bloomington\, MN\, 55431\, United States
CATEGORIES:Continuing Education
ORGANIZER;CN="Northwestern Health Sciences University":MAILTO:info@nwhealth.edu
END:VEVENT
BEGIN:VEVENT
DTSTART;TZID=America/Chicago:20241006T130000
DTEND;TZID=America/Chicago:20241006T170000
DTSTAMP:20260423T154129
CREATED:20240815T191210Z
LAST-MODIFIED:20240917T200502Z
UID:29312-1728219600-1728234000@www.nwhealth.edu
SUMMARY:BLS for the Healthcare Provider
DESCRIPTION:
URL:https://www.nwhealth.edu/event/rental-bls-for-the-healthcare-provider/2024-10-06/
LOCATION:Northwestern Health Sciences University\, 2501 West 84th Street\, Bloomington\, MN\, 55431\, United States
CATEGORIES:Continuing Education
ORGANIZER;CN="Northwestern Health Sciences University":MAILTO:info@nwhealth.edu
END:VEVENT
BEGIN:VEVENT
DTSTART;TZID=America/Chicago:20241006T080000
DTEND;TZID=America/Chicago:20241006T140000
DTSTAMP:20260423T154129
CREATED:20240816T181514Z
LAST-MODIFIED:20240917T201135Z
UID:29323-1728201600-1728223200@www.nwhealth.edu
SUMMARY:CCSP Hands on Extremity Adjusting and Therapeutic Muscle Stretching
DESCRIPTION:
URL:https://www.nwhealth.edu/event/rental-ccsp-hands-on-extremity-adjusting-and-therapeutic-muscle-stretching/2024-10-06/
LOCATION:Northwestern Health Sciences University\, 2501 West 84th Street\, Bloomington\, MN\, 55431\, United States
CATEGORIES:Continuing Education
ORGANIZER;CN="Northwestern Health Sciences University":MAILTO:info@nwhealth.edu
END:VEVENT
BEGIN:VEVENT
DTSTART;TZID=America/Chicago:20241005T130000
DTEND;TZID=America/Chicago:20241005T190000
DTSTAMP:20260423T154129
CREATED:20240816T181514Z
LAST-MODIFIED:20240917T201134Z
UID:29322-1728133200-1728154800@www.nwhealth.edu
SUMMARY:CCSP Hands on Extremity Adjusting and Therapeutic Muscle Stretching
DESCRIPTION:
URL:https://www.nwhealth.edu/event/rental-ccsp-hands-on-extremity-adjusting-and-therapeutic-muscle-stretching/2024-10-05/
LOCATION:Northwestern Health Sciences University\, 2501 West 84th Street\, Bloomington\, MN\, 55431\, United States
CATEGORIES:Continuing Education
ORGANIZER;CN="Northwestern Health Sciences University":MAILTO:info@nwhealth.edu
END:VEVENT
BEGIN:VEVENT
DTSTART;TZID=America/Chicago:20241005T130000
DTEND;TZID=America/Chicago:20241005T170000
DTSTAMP:20260423T154129
CREATED:20240815T191210Z
LAST-MODIFIED:20240917T200501Z
UID:29311-1728133200-1728147600@www.nwhealth.edu
SUMMARY:BLS for the Healthcare Provider
DESCRIPTION:
URL:https://www.nwhealth.edu/event/rental-bls-for-the-healthcare-provider/2024-10-05/
LOCATION:Northwestern Health Sciences University\, 2501 West 84th Street\, Bloomington\, MN\, 55431\, United States
CATEGORIES:Continuing Education
ORGANIZER;CN="Northwestern Health Sciences University":MAILTO:info@nwhealth.edu
END:VEVENT
BEGIN:VEVENT
DTSTART;TZID=America/Chicago:20241004T130000
DTEND;TZID=America/Chicago:20241004T170000
DTSTAMP:20260423T154129
CREATED:20240815T191210Z
LAST-MODIFIED:20240917T200500Z
UID:29310-1728046800-1728061200@www.nwhealth.edu
SUMMARY:BLS for the Healthcare Provider
DESCRIPTION:
URL:https://www.nwhealth.edu/event/rental-bls-for-the-healthcare-provider/2024-10-04/
LOCATION:Northwestern Health Sciences University\, 2501 West 84th Street\, Bloomington\, MN\, 55431\, United States
CATEGORIES:Continuing Education
ORGANIZER;CN="Northwestern Health Sciences University":MAILTO:info@nwhealth.edu
END:VEVENT
BEGIN:VEVENT
DTSTART;TZID=America/Chicago:20240721T080000
DTEND;TZID=America/Chicago:20240721T140000
DTSTAMP:20260423T154129
CREATED:20240620T191720Z
LAST-MODIFIED:20240620T191720Z
UID:28794-1721548800-1721570400@www.nwhealth.edu
SUMMARY:CE Seminar: MLD Course (Day 6/6)
DESCRIPTION:
URL:https://www.nwhealth.edu/event/ce-seminar-mld-course-day-6-6/
LOCATION:Northwestern Health Sciences University\, 2501 West 84th Street\, Bloomington\, MN\, 55431\, United States
CATEGORIES:Continuing Education
ORGANIZER;CN="Continuing Education":MAILTO:continuinged@nwhealth.edu
END:VEVENT
BEGIN:VEVENT
DTSTART;TZID=America/Chicago:20240720T080000
DTEND;TZID=America/Chicago:20240720T170000
DTSTAMP:20260423T154129
CREATED:20240620T191458Z
LAST-MODIFIED:20240620T191458Z
UID:28793-1721462400-1721494800@www.nwhealth.edu
SUMMARY:CE Seminar: MLD Course (Day 5/6)
DESCRIPTION:
URL:https://www.nwhealth.edu/event/ce-seminar-mld-course-day-5-6/
LOCATION:Northwestern Health Sciences University\, 2501 West 84th Street\, Bloomington\, MN\, 55431\, United States
CATEGORIES:Continuing Education
ORGANIZER;CN="Continuing Education":MAILTO:continuinged@nwhealth.edu
END:VEVENT
BEGIN:VEVENT
DTSTART;TZID=America/Chicago:20240719T080000
DTEND;TZID=America/Chicago:20240719T170000
DTSTAMP:20260423T154129
CREATED:20240620T191340Z
LAST-MODIFIED:20240620T191340Z
UID:28792-1721376000-1721408400@www.nwhealth.edu
SUMMARY:CE Seminar: MLD Course (Day 4/6)
DESCRIPTION:
URL:https://www.nwhealth.edu/event/ce-seminar-mld-course-day-4-6/
LOCATION:Northwestern Health Sciences University\, 2501 West 84th Street\, Bloomington\, MN\, 55431\, United States
CATEGORIES:Continuing Education
ORGANIZER;CN="Continuing Education":MAILTO:continuinged@nwhealth.edu
END:VEVENT
BEGIN:VEVENT
DTSTART;TZID=America/Chicago:20240714T080000
DTEND;TZID=America/Chicago:20240714T170000
DTSTAMP:20260423T154129
CREATED:20240620T190733Z
LAST-MODIFIED:20240620T190733Z
UID:28789-1720944000-1720976400@www.nwhealth.edu
SUMMARY:CE Seminar: MLD Course (Day 3/6)
DESCRIPTION:
URL:https://www.nwhealth.edu/event/ce-seminar-mld-course-day-3-6/
LOCATION:Northwestern Health Sciences University\, 2501 West 84th Street\, Bloomington\, MN\, 55431\, United States
CATEGORIES:Continuing Education
ORGANIZER;CN="Continuing Education":MAILTO:continuinged@nwhealth.edu
END:VEVENT
END:VCALENDAR