BEGIN:VCALENDAR
VERSION:2.0
PRODID:-//Northwestern Health Sciences University - ECPv6.15.20//NONSGML v1.0//EN
CALSCALE:GREGORIAN
METHOD:PUBLISH
X-WR-CALNAME:Northwestern Health Sciences University
X-ORIGINAL-URL:https://www.nwhealth.edu
X-WR-CALDESC:Events for Northwestern Health Sciences University
REFRESH-INTERVAL;VALUE=DURATION:PT1H
X-Robots-Tag:noindex
X-PUBLISHED-TTL:PT1H
BEGIN:VTIMEZONE
TZID:America/Chicago
BEGIN:DAYLIGHT
TZOFFSETFROM:-0600
TZOFFSETTO:-0500
TZNAME:CDT
DTSTART:20240310T080000
END:DAYLIGHT
BEGIN:STANDARD
TZOFFSETFROM:-0500
TZOFFSETTO:-0600
TZNAME:CST
DTSTART:20241103T070000
END:STANDARD
BEGIN:DAYLIGHT
TZOFFSETFROM:-0600
TZOFFSETTO:-0500
TZNAME:CDT
DTSTART:20250309T080000
END:DAYLIGHT
BEGIN:STANDARD
TZOFFSETFROM:-0500
TZOFFSETTO:-0600
TZNAME:CST
DTSTART:20251102T070000
END:STANDARD
BEGIN:DAYLIGHT
TZOFFSETFROM:-0600
TZOFFSETTO:-0500
TZNAME:CDT
DTSTART:20260308T080000
END:DAYLIGHT
BEGIN:STANDARD
TZOFFSETFROM:-0500
TZOFFSETTO:-0600
TZNAME:CST
DTSTART:20261101T070000
END:STANDARD
END:VTIMEZONE
BEGIN:VEVENT
DTSTART;TZID=America/Chicago:20250408T070000
DTEND;TZID=America/Chicago:20250408T090000
DTSTAMP:20260419T091453
CREATED:20250407T144614Z
LAST-MODIFIED:20250407T144614Z
UID:31239-1744095600-1744102800@www.nwhealth.edu
SUMMARY:Finals Pancake Breakfast
DESCRIPTION:
URL:https://www.nwhealth.edu/event/finals-pancake-breakfast-2/
LOCATION:Cafeteria
CATEGORIES:Academic
END:VEVENT
BEGIN:VEVENT
DTSTART;VALUE=DATE:20250411
DTEND;VALUE=DATE:20250413
DTSTAMP:20260419T091453
CREATED:20240918T140910Z
LAST-MODIFIED:20260310T191535Z
UID:29686-1744329600-1744502399@www.nwhealth.edu
SUMMARY:Foundations of Applied Kinesiology #4 of 4: Cranial Imbalances and TMJ
DESCRIPTION:Saturday 8:00 a.m.- 6:00 p.m. \nSunday 8:00 a.m.- 1:45 p.m.
URL:https://www.nwhealth.edu/event/mastering-applied-kinesiology-4-of-4-cranial-imbalances-and-tmj/2025-04-11/
LOCATION:Fireside Lounge
CATEGORIES:Continuing Education
ATTACH;FMTTYPE=image/jpeg:https://www.nwhealth.edu/wp-content/uploads/44c4a1bf-b386-465c-bb5b-a51a3db2720a.jpg
ORGANIZER;CN="Continuing Education":MAILTO:continuinged@nwhealth.edu
END:VEVENT
BEGIN:VEVENT
DTSTART;VALUE=DATE:20250427
DTEND;VALUE=DATE:20250503
DTSTAMP:20260419T091453
CREATED:20240918T141722Z
LAST-MODIFIED:20250320T162335Z
UID:29700-1745712000-1746230399@www.nwhealth.edu
SUMMARY:Manual Lymph Drainage Certification Course
DESCRIPTION:Manual Lymph Drainage Certification Course \n\nSunday\, April 27 through Thursday\, May 1\n\n8:00 am – 5:00 pm\n\n\nFriday\, May 2\n\n8:00 am – 2:00pm\n\n\n\n 
URL:https://www.nwhealth.edu/event/manual-lymph-drainage-certification-course/
LOCATION:Northwestern Health Sciences University\, 2501 West 84th Street\, Bloomington\, MN\, 55431\, United States
CATEGORIES:Academic
ATTACH;FMTTYPE=image/png:https://www.nwhealth.edu/wp-content/uploads/Klose_Training_Logo_600W.png
ORGANIZER;CN="Northwestern Health Sciences University":MAILTO:info@nwhealth.edu
END:VEVENT
BEGIN:VEVENT
DTSTART;VALUE=DATE:20250524
DTEND;VALUE=DATE:20250527
DTSTAMP:20260419T091453
CREATED:20241219T202215Z
LAST-MODIFIED:20250709T192459Z
UID:30484-1748044800-1748303999@www.nwhealth.edu
SUMMARY:Memorial Day Holiday - Campus Closed
DESCRIPTION:Campus closed Memorial Day and Memorial Day weekend. \nSaturday\, May 24 – Monday\, May 26
URL:https://www.nwhealth.edu/event/memorialday-holiday-campus-closed/
LOCATION:Northwestern Health Sciences University\, 2501 West 84th Street\, Bloomington\, MN\, 55431\, United States
CATEGORIES:University Events
ORGANIZER;CN="Northwestern Health Sciences University":MAILTO:info@nwhealth.edu
END:VEVENT
BEGIN:VEVENT
DTSTART;TZID=America/Chicago:20250531T100000
DTEND;TZID=America/Chicago:20250531T120000
DTSTAMP:20260419T091453
CREATED:20250331T133839Z
LAST-MODIFIED:20250331T133839Z
UID:31186-1748685600-1748692800@www.nwhealth.edu
SUMMARY:Reiki Renewal
DESCRIPTION:
URL:https://www.nwhealth.edu/event/reiki-renewal/
LOCATION:NWHSU – Room 209
CATEGORIES:University Events
ATTACH;FMTTYPE=image/png:https://www.nwhealth.edu/wp-content/uploads/Reiki-1.png
ORGANIZER;CN="Spring Saldana":MAILTO:ssaldana@nwhealth.edu
END:VEVENT
BEGIN:VEVENT
DTSTART;TZID=America/Chicago:20250602T113000
DTEND;TZID=America/Chicago:20250602T130000
DTSTAMP:20260419T091453
CREATED:20250602T134743Z
LAST-MODIFIED:20250602T134743Z
UID:31562-1748863800-1748869200@www.nwhealth.edu
SUMMARY:Student Ambassador Club
DESCRIPTION:
URL:https://www.nwhealth.edu/event/student-ambassador-club-2/
LOCATION:Foyer
CATEGORIES:University Events
ORGANIZER;CN="Student Affairs":MAILTO:Student Affairs
END:VEVENT
BEGIN:VEVENT
DTSTART;TZID=America/Chicago:20250603T120000
DTEND;TZID=America/Chicago:20250603T173000
DTSTAMP:20260419T091453
CREATED:20250512T134028Z
LAST-MODIFIED:20250513T144557Z
UID:31425-1748952000-1748971800@www.nwhealth.edu
SUMMARY:Massage Meet & Greet
DESCRIPTION:
URL:https://www.nwhealth.edu/event/massage-meet-greet-2/
LOCATION:Fireside Lounge
CATEGORIES:University Events
ATTACH;FMTTYPE=image/jpeg:https://www.nwhealth.edu/wp-content/uploads/NWHSU_Fall-21_1721.jpg
ORGANIZER;CN="Spring Saldana":MAILTO:ssaldana@nwhealth.edu
END:VEVENT
BEGIN:VEVENT
DTSTART;TZID=America/Chicago:20250603T173000
DTEND;TZID=America/Chicago:20250603T193000
DTSTAMP:20260419T091453
CREATED:20250519T143351Z
LAST-MODIFIED:20250519T143351Z
UID:31473-1748971800-1748979000@www.nwhealth.edu
SUMMARY:The Wellness Way Student Club
DESCRIPTION:
URL:https://www.nwhealth.edu/event/the-wellness-way-student-club/
LOCATION:NWHSU – Room L3
CATEGORIES:University Events
ORGANIZER;CN="Student Affairs":MAILTO:Student Affairs
END:VEVENT
BEGIN:VEVENT
DTSTART;TZID=America/Chicago:20250607T100000
DTEND;TZID=America/Chicago:20250607T180000
DTSTAMP:20260419T091453
CREATED:20250407T145619Z
LAST-MODIFIED:20250407T145619Z
UID:31240-1749290400-1749319200@www.nwhealth.edu
SUMMARY:The New Paradigm in Sports Performance: Nutrition to Rehab Protocols
DESCRIPTION:Join Dr. Silverman in this illuminating 1-day seminar and gain insight into a comprehensive methodology that incorporates proven protocols into a clinically integrated system. \nIn this new presentation\, Dr. Robert Silverman leads you through the latest developments in a comprehensive approach to treatment. Based on a plethora of new quality research\, he will guide you through the science demonstrating the power of performance\, nutrition\, and efficacious rehab protocols’ effect on sports performance. Course highlights will include neurodynamic tests\, functional movement/structural assessments\, spine rehab\, upper/lower extremity\, concussion\, and hands-on demonstrations to facilitate recovery and performance. \nDr. Silverman’s experience and insights make this presentation ideal for practitioners who already work in sports injuries and sports nutrition and those who want to integrate these areas into their practice. \nThis presentation is ideal for both students and doctors.
URL:https://www.nwhealth.edu/event/the-new-paradigm-in-sports-performance-nutrition-to-rehab-protocols/
LOCATION:NWHSU – Room L2
CATEGORIES:Continuing Education
ORGANIZER;CN="Continuing Education":MAILTO:continuinged@nwhealth.edu
END:VEVENT
BEGIN:VEVENT
DTSTART;TZID=America/Chicago:20250612T120000
DTEND;TZID=America/Chicago:20250612T130000
DTSTAMP:20260419T091453
CREATED:20250610T141333Z
LAST-MODIFIED:20250610T141333Z
UID:31621-1749729600-1749733200@www.nwhealth.edu
SUMMARY:Standard Process Tabling Event
DESCRIPTION:
URL:https://www.nwhealth.edu/event/standard-process-tabling-event/
LOCATION:Foyer
CATEGORIES:University Events
ORGANIZER;CN="Student Affairs":MAILTO:Student Affairs
END:VEVENT
BEGIN:VEVENT
DTSTART;TZID=America/Chicago:20250612T140000
DTEND;TZID=America/Chicago:20250612T160000
DTSTAMP:20260419T091453
CREATED:20250519T152547Z
LAST-MODIFIED:20250519T172421Z
UID:31474-1749736800-1749744000@www.nwhealth.edu
SUMMARY:Founder's Day Summer Celebration
DESCRIPTION:Join us for an ice cream social to celebrate our rich history\, strong community\, and bright future.
URL:https://www.nwhealth.edu/event/founders-day-summer-celebration/
LOCATION:Foyer
CATEGORIES:Alumni,University Events
ATTACH;FMTTYPE=image/png:https://www.nwhealth.edu/wp-content/uploads/DEV-1619-Summer-Celebration2025-INVITE-crop.png
ORGANIZER;CN="Alumni Relations":MAILTO:khargis@nwhealth.edu
END:VEVENT
BEGIN:VEVENT
DTSTART;VALUE=DATE:20250613
DTEND;VALUE=DATE:20250615
DTSTAMP:20260419T091453
CREATED:20250324T132937Z
LAST-MODIFIED:20250416T180042Z
UID:31104-1749772800-1749945599@www.nwhealth.edu
SUMMARY:MCA Sports Summit
DESCRIPTION:
URL:https://www.nwhealth.edu/event/mca-sports-summit/
LOCATION:NWHSU – Room L4
CATEGORIES:University Events
ATTACH;FMTTYPE=image/webp:https://www.nwhealth.edu/wp-content/uploads/i79ewxhvvphij0hanh4g.webp
ORGANIZER;CN="Northwestern Health Sciences University":MAILTO:info@nwhealth.edu
END:VEVENT
BEGIN:VEVENT
DTSTART;TZID=America/Chicago:20250619T080000
DTEND;TZID=America/Chicago:20250619T170000
DTSTAMP:20260419T091453
CREATED:20220419T200738Z
LAST-MODIFIED:20240711T194816Z
UID:22369-1750320000-1750352400@www.nwhealth.edu
SUMMARY:Holiday Juneteenth
DESCRIPTION:University closed
URL:https://www.nwhealth.edu/event/holiday-juneteenth-2025/
LOCATION:Northwestern Health Sciences University\, 2501 West 84th Street\, Bloomington\, MN\, 55431\, United States
CATEGORIES:University Events
ORGANIZER;CN="Academic Affairs":MAILTO:studentaffairs@nwhealth.edu
END:VEVENT
BEGIN:VEVENT
DTSTART;TZID=America/Chicago:20250626T170000
DTEND;TZID=America/Chicago:20250626T190000
DTSTAMP:20260419T091453
CREATED:20250528T144815Z
LAST-MODIFIED:20250623T155942Z
UID:31544-1750957200-1750964400@www.nwhealth.edu
SUMMARY:Student Senate - Chiropractic Happy Hour
DESCRIPTION:
URL:https://www.nwhealth.edu/event/student-senate-chiropractic-happy-hour-2/
LOCATION:Foyer
CATEGORIES:University Events
ATTACH;FMTTYPE=image/jpeg:https://www.nwhealth.edu/wp-content/uploads/2019/08/05222018-132-1.jpg
ORGANIZER;CN="Student Affairs":MAILTO:Student Affairs
END:VEVENT
BEGIN:VEVENT
DTSTART;TZID=America/Chicago:20250703T113000
DTEND;TZID=America/Chicago:20250703T130000
DTSTAMP:20260419T091453
CREATED:20250616T163404Z
LAST-MODIFIED:20250623T160248Z
UID:31664-1751542200-1751547600@www.nwhealth.edu
SUMMARY:Student Ambassador Club
DESCRIPTION:
URL:https://www.nwhealth.edu/event/student-ambassador-club-3/
LOCATION:Foyer
CATEGORIES:University Events
ATTACH;FMTTYPE=image/jpeg:https://www.nwhealth.edu/wp-content/uploads/students-on-campus_DSC1996.jpg
ORGANIZER;CN="Student Affairs":MAILTO:Student Affairs
END:VEVENT
BEGIN:VEVENT
DTSTART;VALUE=DATE:20250704
DTEND;VALUE=DATE:20250705
DTSTAMP:20260419T091453
CREATED:20201202T191338Z
LAST-MODIFIED:20250623T160458Z
UID:19180-1751587200-1751673599@www.nwhealth.edu
SUMMARY:Holiday - Independence Day
DESCRIPTION:University closed
URL:https://www.nwhealth.edu/event/holiday-independence-day-3/
LOCATION:MN
CATEGORIES:University Events
ATTACH;FMTTYPE=image/png:https://www.nwhealth.edu/wp-content/uploads/NWHSU_Vert_color-no-background.png
END:VEVENT
BEGIN:VEVENT
DTSTART;TZID=America/Chicago:20250717T150000
DTEND;TZID=America/Chicago:20250717T190000
DTSTAMP:20260419T091453
CREATED:20250708T153406Z
LAST-MODIFIED:20250710T163038Z
UID:31799-1752764400-1752778800@www.nwhealth.edu
SUMMARY:Radiologic Technology Graduation Celebration
DESCRIPTION:
URL:https://www.nwhealth.edu/event/radiologic-technology-graduation-celebration/
LOCATION:Fireside Lounge
CATEGORIES:Academic
ATTACH;FMTTYPE=image/png:https://www.nwhealth.edu/wp-content/uploads/NWHSU_Vert_color-no-background.png
END:VEVENT
BEGIN:VEVENT
DTSTART;TZID=America/Chicago:20250719T100000
DTEND;TZID=America/Chicago:20250719T120000
DTSTAMP:20260419T091453
CREATED:20250415T133859Z
LAST-MODIFIED:20250513T152143Z
UID:31294-1752919200-1752926400@www.nwhealth.edu
SUMMARY:Reiki Renewal Community
DESCRIPTION:
URL:https://www.nwhealth.edu/event/reiki-renewal-community-3/2025-07-19/
LOCATION:NWHSU – Room 209
CATEGORIES:University Events
ATTACH;FMTTYPE=image/png:https://www.nwhealth.edu/wp-content/uploads/Reiki-1.png
ORGANIZER;CN="Spring Saldana":MAILTO:ssaldana@nwhealth.edu
END:VEVENT
BEGIN:VEVENT
DTSTART;TZID=America/Chicago:20250722T113000
DTEND;TZID=America/Chicago:20250722T130000
DTSTAMP:20260419T091453
CREATED:20250630T135512Z
LAST-MODIFIED:20250710T163050Z
UID:31731-1753183800-1753189200@www.nwhealth.edu
SUMMARY:36th Annual Student Leadership Recognition
DESCRIPTION:
URL:https://www.nwhealth.edu/event/36th-annual-student-leadership-recognition/
LOCATION:Gym
CATEGORIES:University Events
ATTACH;FMTTYPE=image/png:https://www.nwhealth.edu/wp-content/uploads/NWHSU_Vert_color-no-background.png
ORGANIZER;CN="Student Affairs":MAILTO:Student Affairs
END:VEVENT
BEGIN:VEVENT
DTSTART;TZID=America/Chicago:20250722T120000
DTEND;TZID=America/Chicago:20250722T130000
DTSTAMP:20260419T091453
CREATED:20250721T133909Z
LAST-MODIFIED:20250721T133909Z
UID:31876-1753185600-1753189200@www.nwhealth.edu
SUMMARY:SASA - Acu Week Ear Seeding Event
DESCRIPTION:
URL:https://www.nwhealth.edu/event/sasa-acu-week-ear-seeding-event/
LOCATION:Foyer
CATEGORIES:University Events
ORGANIZER;CN="Student Affairs":MAILTO:Student Affairs
END:VEVENT
BEGIN:VEVENT
DTSTART;VALUE=DATE:20250728
DTEND;VALUE=DATE:20250730
DTSTAMP:20260419T091453
CREATED:20250616T195615Z
LAST-MODIFIED:20250623T170035Z
UID:31676-1753660800-1753833599@www.nwhealth.edu
SUMMARY:COMTA Accreditation Site Visit
DESCRIPTION:
URL:https://www.nwhealth.edu/event/comta-accreditation-site-visit/
LOCATION:Holtz Conference Room (Room 34)
CATEGORIES:Academic
ATTACH;FMTTYPE=image/jpeg:https://www.nwhealth.edu/wp-content/uploads/2021/08/NWHSU_JUNE_2864-e1705003258796.jpg
END:VEVENT
BEGIN:VEVENT
DTSTART;TZID=America/Chicago:20250729T113000
DTEND;TZID=America/Chicago:20250729T180000
DTSTAMP:20260419T091453
CREATED:20250219T200513Z
LAST-MODIFIED:20250724T203057Z
UID:30765-1753788600-1753812000@www.nwhealth.edu
SUMMARY:NWHSU/MCA Golf Tournament
DESCRIPTION:EVENT SOLD OUT! \nJoin us for some of the best that summer in Minnesota offers: a day on a premier golf course with old friends and new connections. Reunite at the NWHSU and MCA Alumni & Friends Golf Tournament on Tuesday\, July 29\, 2025. \nEvent timeline: \n\n11:30-Lunch\nShotgun start at 1:00 p.m.\nDinner/prizes/raffle to follow
URL:https://www.nwhealth.edu/event/nwhsu-mca-golf-tournament/
LOCATION:Rush Creek Golf Club\, 7801 County Road 101 N\, Maple Grove\, MN\, 55311\, United States
CATEGORIES:Alumni,University Events
ATTACH;FMTTYPE=image/png:https://www.nwhealth.edu/wp-content/uploads/golf-nosave.png
ORGANIZER;CN="Alumni Relations":MAILTO:khargis@nwhealth.edu
END:VEVENT
BEGIN:VEVENT
DTSTART;TZID=America/Chicago:20250731T120000
DTEND;TZID=America/Chicago:20250731T130000
DTSTAMP:20260419T091453
CREATED:20250616T195721Z
LAST-MODIFIED:20250623T165548Z
UID:31678-1753963200-1753966800@www.nwhealth.edu
SUMMARY:Standard Process Tabling Events
DESCRIPTION:
URL:https://www.nwhealth.edu/event/standard-process-tabling-events/
LOCATION:Foyer
CATEGORIES:University Events
ATTACH;FMTTYPE=image/png:https://www.nwhealth.edu/wp-content/uploads/NWHSU-Homecoming-Sponsor-Standard-Process.png
ORGANIZER;CN="Student Affairs":MAILTO:Student Affairs
END:VEVENT
BEGIN:VEVENT
DTSTART;TZID=America/Chicago:20250806T120000
DTEND;TZID=America/Chicago:20250806T130000
DTSTAMP:20260419T091453
CREATED:20250415T201353Z
LAST-MODIFIED:20250909T161654Z
UID:31305-1754481600-1754485200@www.nwhealth.edu
SUMMARY:Financial Aid Q&A
DESCRIPTION:Are you ready to take the next step toward a fulfilling career in healthcare? Don’t let financial concerns hold you back! Join us for an informative and interactive virtual Q&A session on Wednesday\, August 6th\, from 12:00 p.m. to 1:00 p.m. CST. \nRegister Here \nGain valuable insights directly from: \n\nMembers of the Financial Aid team at NWHSU\nAn experienced admissions counselor\n\nThis is your chance to: \n\nAsk questions about scholarships\, grants\, loans\, and other aid opportunities.\nGet personalized guidance on navigating the FAFSA process and completing your application.\nDiscover how NWHSU is committed to making your education affordable so you can focus on achieving your dreams.\n\nYour investment in education is an investment in your future. Let our dedicated financial aid team empower you to make informed decisions and embark on a rewarding healthcare career.
URL:https://www.nwhealth.edu/event/zoom-at-noon-financial-aid-at-nwhsu/
LOCATION:Virtual
CATEGORIES:Admissions
ATTACH;FMTTYPE=image/jpeg:https://www.nwhealth.edu/wp-content/uploads/2019/04/NWHS-4.16-CampusStudents-27.jpg
ORGANIZER;CN="Admissions":MAILTO:admit@nwhealth.edu
END:VEVENT
BEGIN:VEVENT
DTSTART;TZID=America/Chicago:20250806T173000
DTEND;TZID=America/Chicago:20250806T190000
DTSTAMP:20260419T091453
CREATED:20250418T160442Z
LAST-MODIFIED:20250717T153307Z
UID:31328-1754501400-1754506800@www.nwhealth.edu
SUMMARY:Massage Therapy Info Session - August 2025
DESCRIPTION:Are you passionate about helping others and promoting wellness? Take the first step towards a fulfilling career in massage therapy by joining our upcoming information session on Wednesday\, August 6th\, from 5:30 PM – 7:00 PM CST on campus. \nExperience firsthand: \n\nEngaging demonstrations led by Spring Saldana\, a skilled Massage Therapy Programs Instructor\, and current massage therapy students.\nAn informative campus tour guided by an admissions counselor.\nGain insights into why NWHSU is the ideal place to launch your massage therapy career.\n\nDiscover: \n\nThe power of touch in promoting healing and well-being.\nHow our program equips you with the skills and knowledge to make a difference in people’s lives.\nThe diverse career paths available to massage therapists.\n\nDon’t miss this opportunity to connect with faculty and staff\, explore our campus\, and see yourself thriving as a massage therapist. \nSign up today and start your journey toward a fulfilling career!
URL:https://www.nwhealth.edu/event/massage-therapy-info-session-august-2025/
LOCATION:Northwestern Health Sciences University\, 2501 West 84th Street\, Bloomington\, MN\, 55431\, United States
CATEGORIES:Admissions
ATTACH;FMTTYPE=image/jpeg:https://www.nwhealth.edu/wp-content/uploads/MTphoto1-1-e1734549545520.jpg
ORGANIZER;CN="Admissions":MAILTO:admit@nwhealth.edu
END:VEVENT
BEGIN:VEVENT
DTSTART;TZID=America/Chicago:20250809T080000
DTEND;TZID=America/Chicago:20250809T140000
DTSTAMP:20260419T091453
CREATED:20250626T145136Z
LAST-MODIFIED:20250626T145136Z
UID:31719-1754726400-1754748000@www.nwhealth.edu
SUMMARY:Reiki Level 2
DESCRIPTION:This course certifies Reiki level 2 practitioners to practice Reiki\, a gentle healing technique for restoring health\, treating physical pain\, stimulating the body’s natural healing ability\, and reducing tension. Using lecture\, practice sessions\, evaluating results and discussion\, students will gain theoretical and practical elements that complement massage and other healthcare treatments\, such as chiropractic\, acupuncture\, and psychotherapy. In addition\, Reiki distance and group healing will be demonstrated and practiced. \n\n\n Recognize Reiki as a gentle form of energy medicine that may be used in various healthcare settings\, and with various types of populations.\nAssess the main energy centers of the body to restore balance to both the practitioner and the client.\n Demonstrate the use of Reiki energy to initiate innate health in both distance and group settings.\n\n\nPrerequisite: Reiki Level 1 completion and certificate needed to register for this course. Please bring Reiki Level 1 certificate of completion to the seminar.
URL:https://www.nwhealth.edu/event/reiki-level-2/
LOCATION:NWHSU – Room 209
CATEGORIES:Continuing Education
ATTACH;FMTTYPE=image/png:https://www.nwhealth.edu/wp-content/uploads/Reiki-1.png
ORGANIZER;CN="Spring Saldana":MAILTO:ssaldana@nwhealth.edu
END:VEVENT
BEGIN:VEVENT
DTSTART;TZID=America/Chicago:20250813T150000
DTEND;TZID=America/Chicago:20250813T170000
DTSTAMP:20260419T091453
CREATED:20250804T153225Z
LAST-MODIFIED:20250805T134212Z
UID:31925-1755097200-1755104400@www.nwhealth.edu
SUMMARY:MT Graduate Recognition Come and Go
DESCRIPTION:
URL:https://www.nwhealth.edu/event/mt-graduate-recognition-come-and-go/
LOCATION:Healing Garden
CATEGORIES:University Events
ATTACH;FMTTYPE=image/jpeg:https://www.nwhealth.edu/wp-content/uploads/NWHSU_JUNE_1532.jpg
END:VEVENT
BEGIN:VEVENT
DTSTART;TZID=America/Chicago:20250814T170000
DTEND;TZID=America/Chicago:20250814T200000
DTSTAMP:20260419T091453
CREATED:20250805T183414Z
LAST-MODIFIED:20250805T183414Z
UID:31930-1755190800-1755201600@www.nwhealth.edu
SUMMARY:ACM Hooding Ceremony
DESCRIPTION:
URL:https://www.nwhealth.edu/event/acm-hooding-ceremony/
LOCATION:Foyer
CATEGORIES:Academic,University Events
ORGANIZER;CN="Student Affairs":MAILTO:Student Affairs
END:VEVENT
BEGIN:VEVENT
DTSTART;VALUE=DATE:20250815
DTEND;VALUE=DATE:20250818
DTSTAMP:20260419T091453
CREATED:20250616T201014Z
LAST-MODIFIED:20250708T165145Z
UID:31679-1755216000-1755475199@www.nwhealth.edu
SUMMARY:Chiropractic Acupuncture #1 of 4
DESCRIPTION:This four session 102 hour hybrid program provides doctors of chiropractic and T5+ chiropractic students the opportunity to learn the technique of acupuncture and Traditional Chinese Medicine (TCM) adjunctive therapies in levels of progression. Each session incorporates classroom and laboratory practicum to advance your acupuncture knowledge and clinical application skills.  It offers an overview and basic training in acupuncture theory\, techniques and traditional Chinese medical adjunctive therapies. \nIn order to qualify for the NBCE acupuncture exam and use acupuncture as an adjunct therapy\, you must complete this program in its entirety and successfully pass all of the examinations. \nAfter each weekend course is successfully completed\, an official CE transcript is emailed confirming hours of attendance. You must complete all the coursework to earn your CE hours. This means attending each session in its entirety\, completing online course content\, and passing online course exams associated with each session.  In addition\, to earn the final 102-hour Certificate of Completion\, you must pass both the final written and practical examinations. There are no exceptions.
URL:https://www.nwhealth.edu/event/chiropractic-acupuncture-1-of-4/
LOCATION:Northwestern Health Sciences University\, 2501 West 84th Street\, Bloomington\, MN\, 55431\, United States
CATEGORIES:Continuing Education
ATTACH;FMTTYPE=image/jpeg:https://www.nwhealth.edu/wp-content/uploads/098ace19-c7af-4266-afac-80c7eee4481a.jpg
END:VEVENT
BEGIN:VEVENT
DTSTART;VALUE=DATE:20250823
DTEND;VALUE=DATE:20250824
DTSTAMP:20260419T091453
CREATED:20250220T214216Z
LAST-MODIFIED:20250623T170208Z
UID:30775-1755907200-1755993599@www.nwhealth.edu
SUMMARY:Term Break - August 23rd
DESCRIPTION:
URL:https://www.nwhealth.edu/event/term-break-august-23rd/
LOCATION:Northwestern Health Sciences University\, 2501 West 84th Street\, Bloomington\, MN\, 55431\, United States
CATEGORIES:University Events
ATTACH;FMTTYPE=image/png:https://www.nwhealth.edu/wp-content/uploads/NWHSU_Vert_color-no-background.png
ORGANIZER;CN="Northwestern Health Sciences University":MAILTO:info@nwhealth.edu
END:VEVENT
END:VCALENDAR