BEGIN:VCALENDAR
VERSION:2.0
PRODID:-//Northwestern Health Sciences University - ECPv6.15.20//NONSGML v1.0//EN
CALSCALE:GREGORIAN
METHOD:PUBLISH
X-WR-CALNAME:Northwestern Health Sciences University
X-ORIGINAL-URL:https://www.nwhealth.edu
X-WR-CALDESC:Events for Northwestern Health Sciences University
REFRESH-INTERVAL;VALUE=DURATION:PT1H
X-Robots-Tag:noindex
X-PUBLISHED-TTL:PT1H
BEGIN:VTIMEZONE
TZID:America/Chicago
BEGIN:DAYLIGHT
TZOFFSETFROM:-0600
TZOFFSETTO:-0500
TZNAME:CDT
DTSTART:20240310T080000
END:DAYLIGHT
BEGIN:STANDARD
TZOFFSETFROM:-0500
TZOFFSETTO:-0600
TZNAME:CST
DTSTART:20241103T070000
END:STANDARD
BEGIN:DAYLIGHT
TZOFFSETFROM:-0600
TZOFFSETTO:-0500
TZNAME:CDT
DTSTART:20250309T080000
END:DAYLIGHT
BEGIN:STANDARD
TZOFFSETFROM:-0500
TZOFFSETTO:-0600
TZNAME:CST
DTSTART:20251102T070000
END:STANDARD
BEGIN:DAYLIGHT
TZOFFSETFROM:-0600
TZOFFSETTO:-0500
TZNAME:CDT
DTSTART:20260308T080000
END:DAYLIGHT
BEGIN:STANDARD
TZOFFSETFROM:-0500
TZOFFSETTO:-0600
TZNAME:CST
DTSTART:20261101T070000
END:STANDARD
END:VTIMEZONE
BEGIN:VEVENT
DTSTART;VALUE=DATE:20250824
DTEND;VALUE=DATE:20250825
DTSTAMP:20260419T134919
CREATED:20250220T214301Z
LAST-MODIFIED:20250623T170218Z
UID:30776-1755993600-1756079999@www.nwhealth.edu
SUMMARY:Term Break - August 24th
DESCRIPTION:
URL:https://www.nwhealth.edu/event/term-break-august-24th/
LOCATION:Northwestern Health Sciences University\, 2501 West 84th Street\, Bloomington\, MN\, 55431\, United States
CATEGORIES:University Events
ATTACH;FMTTYPE=image/png:https://www.nwhealth.edu/wp-content/uploads/NWHSU_Vert_color-no-background.png
ORGANIZER;CN="Northwestern Health Sciences University":MAILTO:info@nwhealth.edu
END:VEVENT
BEGIN:VEVENT
DTSTART;VALUE=DATE:20250830
DTEND;VALUE=DATE:20250902
DTSTAMP:20260419T134919
CREATED:20250220T214526Z
LAST-MODIFIED:20250623T170228Z
UID:30778-1756512000-1756771199@www.nwhealth.edu
SUMMARY:Labor Day Closure (8/30 - 9/1)
DESCRIPTION:
URL:https://www.nwhealth.edu/event/labor-day-closure-8-30-9-1/
LOCATION:Northwestern Health Sciences University\, 2501 West 84th Street\, Bloomington\, MN\, 55431\, United States
CATEGORIES:University Events
ATTACH;FMTTYPE=image/png:https://www.nwhealth.edu/wp-content/uploads/NWHSU_Vert_color-no-background.png
ORGANIZER;CN="Northwestern Health Sciences University":MAILTO:info@nwhealth.edu
END:VEVENT
BEGIN:VEVENT
DTSTART;VALUE=DATE:20250903
DTEND;VALUE=DATE:20250904
DTSTAMP:20260419T134919
CREATED:20250827T135644Z
LAST-MODIFIED:20250827T135644Z
UID:32060-1756857600-1756943999@www.nwhealth.edu
SUMMARY:Start of Fall Term 2025
DESCRIPTION:
URL:https://www.nwhealth.edu/event/start-of-fall-term-2025/
LOCATION:Northwestern Health Sciences University\, 2501 West 84th Street\, Bloomington\, MN\, 55431\, United States
CATEGORIES:Academic
ORGANIZER;CN="Northwestern Health Sciences University":MAILTO:info@nwhealth.edu
END:VEVENT
BEGIN:VEVENT
DTSTART;VALUE=DATE:20250912
DTEND;VALUE=DATE:20250914
DTSTAMP:20260419T134919
CREATED:20250701T175606Z
LAST-MODIFIED:20250701T175606Z
UID:31772-1757635200-1757807999@www.nwhealth.edu
SUMMARY:48 Hour Nutrition Certificate #1 of 4: Inflammation
DESCRIPTION:You will be introduced to the 15 underlying factors that are contributing to chronic inflammation. From fatigue to headaches\, the starting point of care for your patients is the mitochondria. Learn how to properly assess\, test and treat. \nDiscuss foundational nutrients\, vitamins\, minerals\, macronutrients and fiber.  Discuss therapeutic diet and lifestyle management. Choose the right adaptogen for your patient.\n\nPractice Management resources: Review patient history\, key forms and questionnaires\, vitals\, BIA\, nutrition focused physical examination and basic lab testing for evaluation.\n 
URL:https://www.nwhealth.edu/event/48-hour-nutrition-certificate-1-of-4-inflammation/
LOCATION:NWHSU – Room L2
CATEGORIES:Continuing Education
ATTACH;FMTTYPE=image/jpeg:https://www.nwhealth.edu/wp-content/uploads/0b41dd0e-1534-437a-9354-63b62a93e3c0.jpg
ORGANIZER;CN="Continuing Education":MAILTO:continuinged@nwhealth.edu
END:VEVENT
BEGIN:VEVENT
DTSTART;TZID=America/Chicago:20250912T160000
DTEND;TZID=America/Chicago:20250914T170000
DTSTAMP:20260419T134919
CREATED:20250825T133749Z
LAST-MODIFIED:20250909T133642Z
UID:32045-1757692800-1757869200@www.nwhealth.edu
SUMMARY:Chiropractic Acupuncture #2 of 4
DESCRIPTION:
URL:https://www.nwhealth.edu/event/chiropractic-acupuncture-2-of-4/
LOCATION:NWHSU – Room 209
CATEGORIES:Continuing Education
ATTACH;FMTTYPE=image/jpeg:https://www.nwhealth.edu/wp-content/uploads/DSC2081-1.jpg
ORGANIZER;CN="Continuing Education":MAILTO:continuinged@nwhealth.edu
END:VEVENT
BEGIN:VEVENT
DTSTART;TZID=America/Chicago:20250913T090000
DTEND;TZID=America/Chicago:20250913T120000
DTSTAMP:20260419T134919
CREATED:20250905T135604Z
LAST-MODIFIED:20250909T135712Z
UID:32189-1757754000-1757764800@www.nwhealth.edu
SUMMARY:Ethics and Risk Management
DESCRIPTION:
URL:https://www.nwhealth.edu/event/ethics-and-risk-management/
LOCATION:NWHSU – Room L6
ATTACH;FMTTYPE=image/jpeg:https://www.nwhealth.edu/wp-content/uploads/05222018-26-1.jpg
ORGANIZER;CN="Minnesota Acupuncture Association":MAILTO:mnacuassociation@gmail.com
END:VEVENT
BEGIN:VEVENT
DTSTART;TZID=America/Chicago:20250920T180000
DTEND;TZID=America/Chicago:20250920T213000
DTSTAMP:20260419T134919
CREATED:20250328T170003Z
LAST-MODIFIED:20250915T203632Z
UID:31173-1758391200-1758403800@www.nwhealth.edu
SUMMARY:NWHSU Night with the MN Loons!
DESCRIPTION:Join us at Allianz Field Saturday\, September 20th for a game between Minnesota United FC and Chicago Fire FC! \nA free shuttle from NWHSU to Allianz Field will be available. Sign-up here for the shuttle.
URL:https://www.nwhealth.edu/event/nwhsu-night-with-the-mn-loons/
LOCATION:Allianz Field\, 400 Snelling Ave N\, St Paul\, MN\, 55104\, United States
CATEGORIES:Alumni,University Events
ATTACH;FMTTYPE=image/png:https://www.nwhealth.edu/wp-content/uploads/minnesota-united-fc-logo-png_seeklogo-391936.png
ORGANIZER;CN="Northwestern Health Sciences University":MAILTO:info@nwhealth.edu
END:VEVENT
BEGIN:VEVENT
DTSTART;TZID=America/Chicago:20250925T120000
DTEND;TZID=America/Chicago:20250925T130000
DTSTAMP:20260419T134919
CREATED:20250825T134023Z
LAST-MODIFIED:20250916T195933Z
UID:32046-1758801600-1758805200@www.nwhealth.edu
SUMMARY:Lunch and Learn with Chuck Sawyer
DESCRIPTION:
URL:https://www.nwhealth.edu/event/lunch-and-learn-with-chuck-sawyer/
LOCATION:NWHSU – Room L2
CATEGORIES:University Events
ATTACH;FMTTYPE=image/jpeg:https://www.nwhealth.edu/wp-content/uploads/Lunch-Learn-Poster_Chuck-Sawyer_Screen-resized.jpg
ORGANIZER;CN="Alumni Relations":MAILTO:khargis@nwhealth.edu
END:VEVENT
BEGIN:VEVENT
DTSTART;TZID=America/Chicago:20250925T120000
DTEND;TZID=America/Chicago:20250925T130000
DTSTAMP:20260419T134919
CREATED:20250825T134111Z
LAST-MODIFIED:20250909T134809Z
UID:32047-1758801600-1758805200@www.nwhealth.edu
SUMMARY:Lunch and Learn with Ayla Wolf
DESCRIPTION:
URL:https://www.nwhealth.edu/event/lunch-and-learn-with-ayla-wolf/
LOCATION:NWHSU – Room L1
CATEGORIES:University Events
ATTACH;FMTTYPE=image/jpeg:https://www.nwhealth.edu/wp-content/uploads/Lunch-Learn-Poster_Dr.-Ayla-Wolf_Screen-resized.jpg
ORGANIZER;CN="Alumni Relations":MAILTO:khargis@nwhealth.edu
END:VEVENT
BEGIN:VEVENT
DTSTART;VALUE=DATE:20250927
DTEND;VALUE=DATE:20250928
DTSTAMP:20260419T134919
CREATED:20250602T135018Z
LAST-MODIFIED:20250623T170444Z
UID:31563-1758931200-1759017599@www.nwhealth.edu
SUMMARY:ACBSP Practical Exam for the DACBSP
DESCRIPTION:
URL:https://www.nwhealth.edu/event/acbsp-practical-exam-for-the-dacbsp/
LOCATION:Fireside Lounge
CATEGORIES:University Events
ATTACH;FMTTYPE=image/jpeg:https://www.nwhealth.edu/wp-content/uploads/2019/06/Chiropractic_680x400_Learn-whole-person-III.jpg
END:VEVENT
BEGIN:VEVENT
DTSTART;TZID=America/Chicago:20251002T120000
DTEND;TZID=America/Chicago:20251002T130000
DTSTAMP:20260419T134919
CREATED:20250825T135848Z
LAST-MODIFIED:20250909T135059Z
UID:32048-1759406400-1759410000@www.nwhealth.edu
SUMMARY:Lunch and Learn with the South Dakota Chiropractic Association
DESCRIPTION:
URL:https://www.nwhealth.edu/event/lunch-and-learn-with-the-south-dakota-chiropractic-association/
LOCATION:NWHSU – Room L2
CATEGORIES:University Events
ATTACH;FMTTYPE=image/jpeg:https://www.nwhealth.edu/wp-content/uploads/Lunch-Learn-Poster_Dr.-Benjamin-Oien_Screen-resized.jpg
ORGANIZER;CN="Alumni Relations":MAILTO:khargis@nwhealth.edu
END:VEVENT
BEGIN:VEVENT
DTSTART;TZID=America/Chicago:20251002T153000
DTEND;TZID=America/Chicago:20251002T170000
DTSTAMP:20260419T134919
CREATED:20250915T151405Z
LAST-MODIFIED:20250915T151405Z
UID:32276-1759419000-1759424400@www.nwhealth.edu
SUMMARY:Massage Therapy Meet and Greet
DESCRIPTION:
URL:https://www.nwhealth.edu/event/massage-therapy-meet-and-greet/
LOCATION:Fireside Lounge
CATEGORIES:University Events
END:VEVENT
BEGIN:VEVENT
DTSTART;TZID=America/Chicago:20251002T170000
DTEND;TZID=America/Chicago:20251002T200000
DTSTAMP:20260419T134919
CREATED:20250910T175227Z
LAST-MODIFIED:20250910T175227Z
UID:32249-1759424400-1759435200@www.nwhealth.edu
SUMMARY:Chiro Happy Hour
DESCRIPTION:
URL:https://www.nwhealth.edu/event/chiro-happy-hour/
LOCATION:Foyer
CATEGORIES:University Events
END:VEVENT
BEGIN:VEVENT
DTSTART;TZID=America/Chicago:20251004T130000
DTEND;TZID=America/Chicago:20251005T140000
DTSTAMP:20260419T134919
CREATED:20250905T134826Z
LAST-MODIFIED:20250905T134826Z
UID:32184-1759582800-1759672800@www.nwhealth.edu
SUMMARY:Chiropractic Sports Injuries (CCSP) Hands On - Extremity Adjusting and Therapeutic Muscle Stretching
DESCRIPTION:
URL:https://www.nwhealth.edu/event/chiropractic-sports-injuries-ccsp-hands-on-extremity-adjusting-and-therapeutic-muscle-stretching/
LOCATION:NWHSU – Room 203
CATEGORIES:Continuing Education
ORGANIZER;CN="Continuing Education":MAILTO:continuinged@nwhealth.edu
END:VEVENT
BEGIN:VEVENT
DTSTART;TZID=America/Chicago:20251009T173000
DTEND;TZID=America/Chicago:20251009T190000
DTSTAMP:20260419T134919
CREATED:20250808T140230Z
LAST-MODIFIED:20250917T143339Z
UID:31951-1760031000-1760036400@www.nwhealth.edu
SUMMARY:Massage Therapy Info Session
DESCRIPTION:Are you passionate about helping others and promoting wellness? Take the first step towards a fulfilling career in massage therapy by joining our upcoming information session on Thursday\, October 9th\, from 5:30 PM – 7:00 PM CST on campus. \nRegister here. \nExperience firsthand: \n\nEngaging demonstrations led by Spring Saldana\, a skilled Massage Therapy Programs Instructor\, and current massage therapy students.\nAn informative campus tour guided by an admissions counselor.\nGain insights into why NWHSU is the ideal place to launch your massage therapy career.\n\nDiscover: \n\nThe power of touch in promoting healing and well-being.\nHow our program equips you with the skills and knowledge to make a difference in people’s lives.\nThe diverse career paths available to massage therapists.\n\nDon’t miss this opportunity to connect with faculty and staff\, explore our campus\, and see yourself thriving as a massage therapist. \nSign up today and start your journey toward a fulfilling career!
URL:https://www.nwhealth.edu/event/massage-therapy-info-session-5/
LOCATION:NWHSU – Room 209
CATEGORIES:Admissions
ATTACH;FMTTYPE=image/jpeg:https://www.nwhealth.edu/wp-content/uploads/MTphoto4-1.jpg
ORGANIZER;CN="Admissions":MAILTO:admit@nwhealth.edu
END:VEVENT
BEGIN:VEVENT
DTSTART;VALUE=DATE:20251011
DTEND;VALUE=DATE:20251014
DTSTAMP:20260419T134919
CREATED:20250220T214653Z
LAST-MODIFIED:20250623T170542Z
UID:30779-1760140800-1760399999@www.nwhealth.edu
SUMMARY:Indigenous People's Day Closure (10/11 - 10/13)
DESCRIPTION:
URL:https://www.nwhealth.edu/event/indigenous-peoples-day-closure-10-11-10-13/
LOCATION:Northwestern Health Sciences University\, 2501 West 84th Street\, Bloomington\, MN\, 55431\, United States
CATEGORIES:University Events
ATTACH;FMTTYPE=image/png:https://www.nwhealth.edu/wp-content/uploads/NWHSU_Vert_color-no-background.png
ORGANIZER;CN="Northwestern Health Sciences University":MAILTO:info@nwhealth.edu
END:VEVENT
BEGIN:VEVENT
DTSTART;VALUE=DATE:20251017
DTEND;VALUE=DATE:20251019
DTSTAMP:20260419T134919
CREATED:20250701T184343Z
LAST-MODIFIED:20250701T184343Z
UID:31777-1760659200-1760831999@www.nwhealth.edu
SUMMARY:48 Hour Nutrition Certificate Program #2 of 4: GI Conditions
DESCRIPTION:In this session we will have a detailed discussion about digestive health\, learn a lab assessment for the patient with common digestive complaints\, and discuss GI conditions like constipation\, IBS vs IBD\, leaky gut and SIBO. \n\nIn addition we will talk about diet\, lifestyle and nutrient interventions for common gastrointestinal complaints and learn how to successfully implement a 5R gut restoration program into your practice.
URL:https://www.nwhealth.edu/event/48-hour-nutrition-certificate-program-2-of-4-gi-conditions/
LOCATION:NWHSU – Room L2
CATEGORIES:Continuing Education
ATTACH;FMTTYPE=image/jpeg:https://www.nwhealth.edu/wp-content/uploads/0b41dd0e-1534-437a-9354-63b62a93e3c0.jpg
ORGANIZER;CN="Continuing Education":MAILTO:continuinged@nwhealth.edu
END:VEVENT
BEGIN:VEVENT
DTSTART;TZID=America/Chicago:20251018T080000
DTEND;TZID=America/Chicago:20251019T160000
DTSTAMP:20260419T134919
CREATED:20250905T135011Z
LAST-MODIFIED:20250909T135151Z
UID:32185-1760774400-1760889600@www.nwhealth.edu
SUMMARY:Chiropractic Acupuncture #3 of 4
DESCRIPTION:
URL:https://www.nwhealth.edu/event/chiropractic-acupuncture-3-of-4/
LOCATION:NWHSU – Room 209
CATEGORIES:Continuing Education
ATTACH;FMTTYPE=image/jpeg:https://www.nwhealth.edu/wp-content/uploads/DSC2081-1.jpg
ORGANIZER;CN="Continuing Education":MAILTO:continuinged@nwhealth.edu
END:VEVENT
BEGIN:VEVENT
DTSTART;TZID=America/Chicago:20251024T073000
DTEND;TZID=America/Chicago:20251024T073000
DTSTAMP:20260419T134919
CREATED:20250415T134353Z
LAST-MODIFIED:20250415T135157Z
UID:31296-1761291000-1761291000@www.nwhealth.edu
SUMMARY:American Board of Chiropractic Acupuncture Annual Symposium
DESCRIPTION:
URL:https://www.nwhealth.edu/event/american-board-of-chiropractic-acupuncture-annual-symposium/2025-10-24/
LOCATION:NWHSU – Room L1
CATEGORIES:University Events
ATTACH;FMTTYPE=image/jpeg:https://www.nwhealth.edu/wp-content/uploads/52647472_10216947645097847_7230446321759420416_n.jpg
END:VEVENT
BEGIN:VEVENT
DTSTART;TZID=America/Chicago:20251025T073000
DTEND;TZID=America/Chicago:20251025T170000
DTSTAMP:20260419T134919
CREATED:20250415T134353Z
LAST-MODIFIED:20250415T135157Z
UID:31298-1761377400-1761411600@www.nwhealth.edu
SUMMARY:American Board of Chiropractic Acupuncture Annual Symposium
DESCRIPTION:
URL:https://www.nwhealth.edu/event/american-board-of-chiropractic-acupuncture-annual-symposium/2025-10-25/
LOCATION:NWHSU – Room L1
CATEGORIES:University Events
ATTACH;FMTTYPE=image/jpeg:https://www.nwhealth.edu/wp-content/uploads/52647472_10216947645097847_7230446321759420416_n.jpg
END:VEVENT
BEGIN:VEVENT
DTSTART;TZID=America/Chicago:20251026T073000
DTEND;TZID=America/Chicago:20251026T140000
DTSTAMP:20260419T134919
CREATED:20250415T134353Z
LAST-MODIFIED:20250415T135157Z
UID:31299-1761463800-1761487200@www.nwhealth.edu
SUMMARY:American Board of Chiropractic Acupuncture Annual Symposium
DESCRIPTION:
URL:https://www.nwhealth.edu/event/american-board-of-chiropractic-acupuncture-annual-symposium/2025-10-26/
LOCATION:NWHSU – Room L1
CATEGORIES:University Events
ATTACH;FMTTYPE=image/jpeg:https://www.nwhealth.edu/wp-content/uploads/52647472_10216947645097847_7230446321759420416_n.jpg
END:VEVENT
BEGIN:VEVENT
DTSTART;TZID=America/Chicago:20251030T120000
DTEND;TZID=America/Chicago:20251030T133000
DTSTAMP:20260419T134919
CREATED:20250925T133752Z
LAST-MODIFIED:20250925T133846Z
UID:32313-1761825600-1761831000@www.nwhealth.edu
SUMMARY:2025 Gratitude Luncheon
DESCRIPTION:We are grateful for the generosity of you-our supporters and friends of NWHSU. Our annual luncheon is a wonderful opportunity to meet and connect with students benefitting from donor scholarships and share their experiences.\nWe hope you can join us for this special event! \nContact Katy Hargis (khargis@nwhealth.edu) with questions. \nEvent start time is 11:45 AM.
URL:https://www.nwhealth.edu/event/2025-gratitude-luncheon/
CATEGORIES:Alumni,University Events
ATTACH;FMTTYPE=image/png:https://www.nwhealth.edu/wp-content/uploads/gratitude-lunch-2024.png
ORGANIZER;CN="Alumni Relations":MAILTO:khargis@nwhealth.edu
END:VEVENT
BEGIN:VEVENT
DTSTART;VALUE=DATE:20251031
DTEND;VALUE=DATE:20251103
DTSTAMP:20260419T134919
CREATED:20250714T164743Z
LAST-MODIFIED:20251030T204949Z
UID:31834-1761868800-1762127999@www.nwhealth.edu
SUMMARY:Chiropractic Sports Injuries (CCSP) Hands-on - Emergency Procedures & Taping for the Sports Chiropractor
DESCRIPTION:
URL:https://www.nwhealth.edu/event/chiropractic-sports-injuries-ccsp-hands-on-emergency-procedures-taping-for-the-sports-chiropractor/
LOCATION:NWHSU – Room 17
CATEGORIES:Continuing Education
ATTACH;FMTTYPE=image/png:https://www.nwhealth.edu/wp-content/uploads/2023/10/1.png
ORGANIZER;CN="Continuing Education":MAILTO:continuinged@nwhealth.edu
END:VEVENT
BEGIN:VEVENT
DTSTART;TZID=America/Chicago:20251031T170000
DTEND;TZID=America/Chicago:20251102T140000
DTSTAMP:20260419T134919
CREATED:20250905T135155Z
LAST-MODIFIED:20251030T205035Z
UID:32186-1761930000-1762092000@www.nwhealth.edu
SUMMARY:Chiropractic Sports Injuries (CCSP) Hands-on - Emergency Procedures & Taping for the Sports Chiropractor
DESCRIPTION:
URL:https://www.nwhealth.edu/event/chiropractic-sports-injuries-ccsp-hands-on-emergency-procedures-taping-for-the-sports-chiropractor-2/
LOCATION:NWHSU – Room 17
CATEGORIES:Continuing Education
ATTACH;FMTTYPE=image/png:https://www.nwhealth.edu/wp-content/uploads/2023/10/1.png
ORGANIZER;CN="Continuing Education":MAILTO:continuinged@nwhealth.edu
END:VEVENT
BEGIN:VEVENT
DTSTART;TZID=America/Chicago:20251101T110000
DTEND;TZID=America/Chicago:20251101T140000
DTSTAMP:20260419T134919
CREATED:20241205T142913Z
LAST-MODIFIED:20250317T163114Z
UID:30345-1761994800-1762005600@www.nwhealth.edu
SUMMARY:Fall 2025 White Coat Ceremony
DESCRIPTION:
URL:https://www.nwhealth.edu/event/fall-2025-white-coat-ceremony/
LOCATION:Northwestern Health Sciences University\, 2501 West 84th Street\, Bloomington\, MN\, 55431\, United States
CATEGORIES:Academic,University Events
ATTACH;FMTTYPE=image/jpeg:https://www.nwhealth.edu/wp-content/uploads/nwhsuwc-3456.jpg
END:VEVENT
BEGIN:VEVENT
DTSTART;TZID=America/Chicago:20251114T170000
DTEND;TZID=America/Chicago:20251115T180000
DTSTAMP:20260419T134919
CREATED:20250905T135323Z
LAST-MODIFIED:20250909T135621Z
UID:32187-1763139600-1763229600@www.nwhealth.edu
SUMMARY:48 Hour Nutrition Certificate Program #3 of 4
DESCRIPTION:
URL:https://www.nwhealth.edu/event/48-hour-nutrition-certificate-program-3-of-4/
LOCATION:NWHSU – Room L1
CATEGORIES:Continuing Education
ATTACH;FMTTYPE=image/jpeg:https://www.nwhealth.edu/wp-content/uploads/0b41dd0e-1534-437a-9354-63b62a93e3c0.jpg
ORGANIZER;CN="Continuing Education":MAILTO:continuinged@nwhealth.edu
END:VEVENT
BEGIN:VEVENT
DTSTART;TZID=America/Chicago:20251115T080000
DTEND;TZID=America/Chicago:20251116T160000
DTSTAMP:20260419T134919
CREATED:20250905T135402Z
LAST-MODIFIED:20250909T135553Z
UID:32188-1763193600-1763308800@www.nwhealth.edu
SUMMARY:Chiropractic Acupuncture #4 of 4
DESCRIPTION:
URL:https://www.nwhealth.edu/event/chiropractic-acupuncture-4-of-4/
LOCATION:NWHSU – Room 209
CATEGORIES:Continuing Education
ATTACH;FMTTYPE=image/jpeg:https://www.nwhealth.edu/wp-content/uploads/DSC2081-1.jpg
ORGANIZER;CN="Continuing Education":MAILTO:continuinged@nwhealth.edu
END:VEVENT
BEGIN:VEVENT
DTSTART;VALUE=DATE:20251118
DTEND;VALUE=DATE:20251119
DTSTAMP:20260419T134919
CREATED:20250711T184852Z
LAST-MODIFIED:20250805T134638Z
UID:31831-1763424000-1763510399@www.nwhealth.edu
SUMMARY:Give Day 2025
DESCRIPTION:
URL:https://www.nwhealth.edu/event/give-day-2025/
LOCATION:Foyer
CATEGORIES:University Events
ATTACH;FMTTYPE=image/jpeg:https://www.nwhealth.edu/wp-content/uploads/Give-Day_logo_STACKED_color_NWHSU.jpg
ORGANIZER;CN="Alumni Relations":MAILTO:khargis@nwhealth.edu
END:VEVENT
BEGIN:VEVENT
DTSTART;VALUE=DATE:20251127
DTEND;VALUE=DATE:20251128
DTSTAMP:20260419T134919
CREATED:20250220T214822Z
LAST-MODIFIED:20250623T170521Z
UID:30780-1764201600-1764287999@www.nwhealth.edu
SUMMARY:Thanksgiving Closure
DESCRIPTION:
URL:https://www.nwhealth.edu/event/thanksgiving-closure-11-27-11-30/
LOCATION:Northwestern Health Sciences University\, 2501 West 84th Street\, Bloomington\, MN\, 55431\, United States
CATEGORIES:University Events
ATTACH;FMTTYPE=image/png:https://www.nwhealth.edu/wp-content/uploads/NWHSU_Vert_color-no-background.png
ORGANIZER;CN="Northwestern Health Sciences University":MAILTO:info@nwhealth.edu
END:VEVENT
BEGIN:VEVENT
DTSTART;VALUE=DATE:20251205
DTEND;VALUE=DATE:20251208
DTSTAMP:20260419T134919
CREATED:20250827T142456Z
LAST-MODIFIED:20251201T173831Z
UID:32085-1764892800-1765151999@www.nwhealth.edu
SUMMARY:Final Chiro Countdown License Renewal
DESCRIPTION:
URL:https://www.nwhealth.edu/event/final-chiro-countdown-license-renewal/
LOCATION:Northwestern Health Sciences University\, 2501 West 84th Street\, Bloomington\, MN\, 55431\, United States
CATEGORIES:Alumni,Continuing Education,University Events
ATTACH;FMTTYPE=image/png:https://www.nwhealth.edu/wp-content/uploads/FCC-Web-Banner-1.91-1200x628-1.png
END:VEVENT
END:VCALENDAR