BEGIN:VCALENDAR
VERSION:2.0
PRODID:-//Northwestern Health Sciences University - ECPv6.15.20//NONSGML v1.0//EN
CALSCALE:GREGORIAN
METHOD:PUBLISH
X-WR-CALNAME:Northwestern Health Sciences University
X-ORIGINAL-URL:https://www.nwhealth.edu
X-WR-CALDESC:Events for Northwestern Health Sciences University
REFRESH-INTERVAL;VALUE=DURATION:PT1H
X-Robots-Tag:noindex
X-PUBLISHED-TTL:PT1H
BEGIN:VTIMEZONE
TZID:America/Chicago
BEGIN:DAYLIGHT
TZOFFSETFROM:-0600
TZOFFSETTO:-0500
TZNAME:CDT
DTSTART:20240310T080000
END:DAYLIGHT
BEGIN:STANDARD
TZOFFSETFROM:-0500
TZOFFSETTO:-0600
TZNAME:CST
DTSTART:20241103T070000
END:STANDARD
BEGIN:DAYLIGHT
TZOFFSETFROM:-0600
TZOFFSETTO:-0500
TZNAME:CDT
DTSTART:20250309T080000
END:DAYLIGHT
BEGIN:STANDARD
TZOFFSETFROM:-0500
TZOFFSETTO:-0600
TZNAME:CST
DTSTART:20251102T070000
END:STANDARD
BEGIN:DAYLIGHT
TZOFFSETFROM:-0600
TZOFFSETTO:-0500
TZNAME:CDT
DTSTART:20260308T080000
END:DAYLIGHT
BEGIN:STANDARD
TZOFFSETFROM:-0500
TZOFFSETTO:-0600
TZNAME:CST
DTSTART:20261101T070000
END:STANDARD
BEGIN:DAYLIGHT
TZOFFSETFROM:-0600
TZOFFSETTO:-0500
TZNAME:CDT
DTSTART:20270314T080000
END:DAYLIGHT
BEGIN:STANDARD
TZOFFSETFROM:-0500
TZOFFSETTO:-0600
TZNAME:CST
DTSTART:20271107T070000
END:STANDARD
END:VTIMEZONE
BEGIN:VEVENT
DTSTART;TZID=America/Chicago:20251101T110000
DTEND;TZID=America/Chicago:20251101T140000
DTSTAMP:20260419T145758
CREATED:20241205T142913Z
LAST-MODIFIED:20250317T163114Z
UID:30345-1761994800-1762005600@www.nwhealth.edu
SUMMARY:Fall 2025 White Coat Ceremony
DESCRIPTION:
URL:https://www.nwhealth.edu/event/fall-2025-white-coat-ceremony/
LOCATION:Northwestern Health Sciences University\, 2501 West 84th Street\, Bloomington\, MN\, 55431\, United States
CATEGORIES:Academic,University Events
ATTACH;FMTTYPE=image/jpeg:https://www.nwhealth.edu/wp-content/uploads/nwhsuwc-3456.jpg
END:VEVENT
BEGIN:VEVENT
DTSTART;TZID=America/Chicago:20251114T170000
DTEND;TZID=America/Chicago:20251115T180000
DTSTAMP:20260419T145758
CREATED:20250905T135323Z
LAST-MODIFIED:20250909T135621Z
UID:32187-1763139600-1763229600@www.nwhealth.edu
SUMMARY:48 Hour Nutrition Certificate Program #3 of 4
DESCRIPTION:
URL:https://www.nwhealth.edu/event/48-hour-nutrition-certificate-program-3-of-4/
LOCATION:NWHSU – Room L1
CATEGORIES:Continuing Education
ATTACH;FMTTYPE=image/jpeg:https://www.nwhealth.edu/wp-content/uploads/0b41dd0e-1534-437a-9354-63b62a93e3c0.jpg
ORGANIZER;CN="Continuing Education":MAILTO:continuinged@nwhealth.edu
END:VEVENT
BEGIN:VEVENT
DTSTART;TZID=America/Chicago:20251115T080000
DTEND;TZID=America/Chicago:20251116T160000
DTSTAMP:20260419T145758
CREATED:20250905T135402Z
LAST-MODIFIED:20250909T135553Z
UID:32188-1763193600-1763308800@www.nwhealth.edu
SUMMARY:Chiropractic Acupuncture #4 of 4
DESCRIPTION:
URL:https://www.nwhealth.edu/event/chiropractic-acupuncture-4-of-4/
LOCATION:NWHSU – Room 209
CATEGORIES:Continuing Education
ATTACH;FMTTYPE=image/jpeg:https://www.nwhealth.edu/wp-content/uploads/DSC2081-1.jpg
ORGANIZER;CN="Continuing Education":MAILTO:continuinged@nwhealth.edu
END:VEVENT
BEGIN:VEVENT
DTSTART;VALUE=DATE:20251118
DTEND;VALUE=DATE:20251119
DTSTAMP:20260419T145758
CREATED:20250711T184852Z
LAST-MODIFIED:20250805T134638Z
UID:31831-1763424000-1763510399@www.nwhealth.edu
SUMMARY:Give Day 2025
DESCRIPTION:
URL:https://www.nwhealth.edu/event/give-day-2025/
LOCATION:Foyer
CATEGORIES:University Events
ATTACH;FMTTYPE=image/jpeg:https://www.nwhealth.edu/wp-content/uploads/Give-Day_logo_STACKED_color_NWHSU.jpg
ORGANIZER;CN="Alumni Relations":MAILTO:khargis@nwhealth.edu
END:VEVENT
BEGIN:VEVENT
DTSTART;VALUE=DATE:20251127
DTEND;VALUE=DATE:20251128
DTSTAMP:20260419T145758
CREATED:20250220T214822Z
LAST-MODIFIED:20250623T170521Z
UID:30780-1764201600-1764287999@www.nwhealth.edu
SUMMARY:Thanksgiving Closure
DESCRIPTION:
URL:https://www.nwhealth.edu/event/thanksgiving-closure-11-27-11-30/
LOCATION:Northwestern Health Sciences University\, 2501 West 84th Street\, Bloomington\, MN\, 55431\, United States
CATEGORIES:University Events
ATTACH;FMTTYPE=image/png:https://www.nwhealth.edu/wp-content/uploads/NWHSU_Vert_color-no-background.png
ORGANIZER;CN="Northwestern Health Sciences University":MAILTO:info@nwhealth.edu
END:VEVENT
BEGIN:VEVENT
DTSTART;VALUE=DATE:20251205
DTEND;VALUE=DATE:20251208
DTSTAMP:20260419T145758
CREATED:20250827T142456Z
LAST-MODIFIED:20251201T173831Z
UID:32085-1764892800-1765151999@www.nwhealth.edu
SUMMARY:Final Chiro Countdown License Renewal
DESCRIPTION:
URL:https://www.nwhealth.edu/event/final-chiro-countdown-license-renewal/
LOCATION:Northwestern Health Sciences University\, 2501 West 84th Street\, Bloomington\, MN\, 55431\, United States
CATEGORIES:Alumni,Continuing Education,University Events
ATTACH;FMTTYPE=image/png:https://www.nwhealth.edu/wp-content/uploads/FCC-Web-Banner-1.91-1200x628-1.png
END:VEVENT
BEGIN:VEVENT
DTSTART;TZID=America/Chicago:20251208T173000
DTEND;TZID=America/Chicago:20251208T190000
DTSTAMP:20260419T145758
CREATED:20251010T155731Z
LAST-MODIFIED:20251112T210524Z
UID:32402-1765215000-1765220400@www.nwhealth.edu
SUMMARY:Massage Therapy Info Session - December 2025
DESCRIPTION:Are you passionate about helping others and promoting wellness? Take the first step towards a fulfilling career in massage therapy by joining our upcoming information session on Monday\, December 8th\, from 5:30 PM – 7:00 PM CST on campus. \nRegister here.  \nExperience firsthand: \n\nEngaging demonstrations led by Ellie Larson\, Massage Therapy Program Chair and Instructor\, and current massage therapy students.\nAn informative campus tour guided by an admissions counselor.\nGain insights into why NWHSU is the ideal place to launch your massage therapy career.\n\nDiscover: \n\nThe power of touch in promoting healing and well-being.\nHow our program equips you with the skills and knowledge to make a difference in people’s lives.\nThe diverse career paths available to massage therapists.\n\nDon’t miss this opportunity to connect with faculty and staff\, explore our campus\, and see yourself thriving as a massage therapist. \nSign up today and start your journey toward a fulfilling career!
URL:https://www.nwhealth.edu/event/massage-therapy-info-session-december-2025/
LOCATION:NWHSU – Room 209
CATEGORIES:Admissions,Massage Therapy
ATTACH;FMTTYPE=image/jpeg:https://www.nwhealth.edu/wp-content/uploads/2019/04/MT_1200x600_Apply-now.jpg
ORGANIZER;CN="Admissions":MAILTO:admit@nwhealth.edu
END:VEVENT
BEGIN:VEVENT
DTSTART;TZID=America/Chicago:20251210T120000
DTEND;TZID=America/Chicago:20251210T130000
DTSTAMP:20260419T145758
CREATED:20250807T141808Z
LAST-MODIFIED:20251112T210458Z
UID:31939-1765368000-1765371600@www.nwhealth.edu
SUMMARY:Financial Aid Q&A December 2025
DESCRIPTION:Are you ready to take the next step toward a fulfilling career in healthcare? Don’t let financial concerns hold you back! Join us for an informative and interactive virtual Q&A session on Wednesday\, December 10th\, from 12:00 p.m. to 1:00 p.m. CST. \nRegister here.  \nGain valuable insights directly from: \n\nMembers of the Financial Aid team at NWHSU\nAn experienced admissions counselor\n\nThis is your chance to: \n\nAsk questions about scholarships\, grants\, loans\, and other aid opportunities.\nGet personalized guidance on navigating the FAFSA process and completing your application.\nDiscover how NWHSU is committed to making your education affordable so you can focus on achieving your dreams.\n\nYour investment in education is an investment in your future. Let our dedicated financial aid team empower you to make informed decisions and embark on a rewarding healthcare career.
URL:https://www.nwhealth.edu/event/financial-aid-qa-december-2025/
LOCATION:Virtual
CATEGORIES:Admissions,Massage Therapy
ATTACH;FMTTYPE=image/jpeg:https://www.nwhealth.edu/wp-content/uploads/IC.jpg
ORGANIZER;CN="Admissions":MAILTO:admit@nwhealth.edu
END:VEVENT
BEGIN:VEVENT
DTSTART;VALUE=DATE:20251216
DTEND;VALUE=DATE:20251217
DTSTAMP:20260419T145758
CREATED:20250827T135750Z
LAST-MODIFIED:20250909T162316Z
UID:32061-1765843200-1765929599@www.nwhealth.edu
SUMMARY:Last Day of Fall Term 2025
DESCRIPTION:
URL:https://www.nwhealth.edu/event/last-day-of-fall-term-2025/
LOCATION:Northwestern Health Sciences University\, 2501 West 84th Street\, Bloomington\, MN\, 55431\, United States
CATEGORIES:Academic
ATTACH;FMTTYPE=image/webp:https://www.nwhealth.edu/wp-content/uploads/NWHSU_Vert_color-no-background.png.webp
ORGANIZER;CN="Northwestern Health Sciences University":MAILTO:info@nwhealth.edu
END:VEVENT
BEGIN:VEVENT
DTSTART;VALUE=DATE:20251224
DTEND;VALUE=DATE:20260102
DTSTAMP:20260419T145758
CREATED:20250220T214951Z
LAST-MODIFIED:20250623T170646Z
UID:30781-1766534400-1767311999@www.nwhealth.edu
SUMMARY:Winter Break Closure (12/24 - 1/1)
DESCRIPTION:
URL:https://www.nwhealth.edu/event/winter-break-closure-12-24-1-1/
LOCATION:Northwestern Health Sciences University\, 2501 West 84th Street\, Bloomington\, MN\, 55431\, United States
CATEGORIES:University Events
ATTACH;FMTTYPE=image/png:https://www.nwhealth.edu/wp-content/uploads/NWHSU_Vert_color-no-background.png
ORGANIZER;CN="Northwestern Health Sciences University":MAILTO:info@nwhealth.edu
END:VEVENT
BEGIN:VEVENT
DTSTART;VALUE=DATE:20260107
DTEND;VALUE=DATE:20260108
DTSTAMP:20260419T145758
CREATED:20250827T135858Z
LAST-MODIFIED:20251217T231316Z
UID:32063-1767744000-1767830399@www.nwhealth.edu
SUMMARY:Start of Winter Term 2026
DESCRIPTION:
URL:https://www.nwhealth.edu/event/start-of-winter-term-2026/
LOCATION:Northwestern Health Sciences University\, 2501 West 84th Street\, Bloomington\, MN\, 55431\, United States
CATEGORIES:Academic
ATTACH;FMTTYPE=image/png:https://www.nwhealth.edu/wp-content/uploads/NWHSU_Vert_color-no-background.png
ORGANIZER;CN="Northwestern Health Sciences University":MAILTO:info@nwhealth.edu
END:VEVENT
BEGIN:VEVENT
DTSTART;TZID=America/Chicago:20260115T120000
DTEND;TZID=America/Chicago:20260115T130000
DTSTAMP:20260419T145758
CREATED:20251230T221346Z
LAST-MODIFIED:20251230T222019Z
UID:32950-1768478400-1768482000@www.nwhealth.edu
SUMMARY:Applications of AI in Integrative Care: Responsibility\, Tools and Strategies for Enhanced Practice Webinar
DESCRIPTION:Get a snapshot of how AI can transform your integrative care practice at this NWHSU webinar. Dr. Scott Shimotsu\, PhD\, MPH\, AI and integrative care thought leader\, will share his expertise as emerging tools—from machine learning disease classifiers to ambient visit summary recordings\, imaging detection\, and clinical decision support—reshape how integrative care is delivered. Register here.  
URL:https://www.nwhealth.edu/event/applications-of-ai-in-integrative-care-responsibility-tools-and-strategies-for-enhanced-practice-webinar/
LOCATION:Virtual
CATEGORIES:Continuing Education
ATTACH;FMTTYPE=image/png:https://www.nwhealth.edu/wp-content/uploads/CE-Event.png
ORGANIZER;CN="Continuing Education":MAILTO:continuinged@nwhealth.edu
END:VEVENT
BEGIN:VEVENT
DTSTART;VALUE=DATE:20260119
DTEND;VALUE=DATE:20260120
DTSTAMP:20260419T145758
CREATED:20201202T191516Z
LAST-MODIFIED:20251215T222703Z
UID:19150-1768780800-1768867199@www.nwhealth.edu
SUMMARY:Campus Closed- Martin Luther King Jr. Day
DESCRIPTION:University closed \nNorthwestern Health Clinic Bloomington open
URL:https://www.nwhealth.edu/event/holiday-martin-luther-king-jr-day/
CATEGORIES:University Events
ATTACH;FMTTYPE=image/png:https://www.nwhealth.edu/wp-content/uploads/NWHSU_Vert_color-no-background.png
END:VEVENT
BEGIN:VEVENT
DTSTART;TZID=America/Chicago:20260122T120000
DTEND;TZID=America/Chicago:20260122T130000
DTSTAMP:20260419T145758
CREATED:20260121T224854Z
LAST-MODIFIED:20260121T224932Z
UID:33044-1769083200-1769086800@www.nwhealth.edu
SUMMARY:Doing Less to Heal More: The Practice of Rest in Real Life and in Healthcare
DESCRIPTION:Discuss the importance and value of rest and doing less in health and wellbeing.
URL:https://www.nwhealth.edu/event/doing-less-to-heal-more-the-practice-of-rest-in-real-life-and-in-healthcare/
LOCATION:NWHSU – Room L2
CATEGORIES:University Events
ATTACH;FMTTYPE=image/jpeg:https://www.nwhealth.edu/wp-content/uploads/2020/10/10.20-SponCon_WinterTips.jpg
END:VEVENT
BEGIN:VEVENT
DTSTART;VALUE=DATE:20260123
DTEND;VALUE=DATE:20260128
DTSTAMP:20260419T145758
CREATED:20260121T223411Z
LAST-MODIFIED:20260122T161045Z
UID:33041-1769126400-1769558399@www.nwhealth.edu
SUMMARY:Augustana University Human Anatomy Course - Mitchell Lab
DESCRIPTION:  \n 
URL:https://www.nwhealth.edu/event/augustana-cadaver-course/
LOCATION:Northwestern Health Sciences University\, 2501 West 84th Street\, Bloomington\, MN\, 55431\, United States
CATEGORIES:Academic
ATTACH;FMTTYPE=image/jpeg:https://www.nwhealth.edu/wp-content/uploads/Augustana.jpg
END:VEVENT
BEGIN:VEVENT
DTSTART;TZID=America/Chicago:20260124T090000
DTEND;TZID=America/Chicago:20260124T140000
DTSTAMP:20260419T145758
CREATED:20251028T171226Z
LAST-MODIFIED:20251112T210755Z
UID:32520-1769245200-1769263200@www.nwhealth.edu
SUMMARY:Discovery Day January 2026
DESCRIPTION:Discover Your Future in Healthcare at NWHSU Discovery Day \nJoin us for an immersive experience designed to help you explore your future in natural and integrative healthcare. Whether you’re just beginning your journey or ready to take the next step\, Discovery Day gives you an inside look at the programs\, people\, and opportunities that make Northwestern Health Sciences University unique. \nRegister here. \nDuring Discovery Day\, you’ll: \n\nExperience live demonstrations and interactive sessions\nTour our vibrant campus\nConnect with faculty\, students\, and staff who are shaping the future of healthcare\nLearn about clinical experiences\, internships\, admissions\, and financial aid\nEnjoy a complimentary lunch with fellow future healthcare professionals\n\nPrograms Featured: \n\nChiropractic\nAcupuncture and Chinese Medicine\nMassage Therapy\n\nEvent Details: \nEvent begins: 9:00 a.m. (Check-in available starting at 8:30 a.m.) \nEntrance: Use Door #3 \nParking: Free parking is available in all lots \nVisit our Discovery Day page for sample schedules by program and more details.
URL:https://www.nwhealth.edu/event/discovery-day-january-2026/
LOCATION:Northwestern Health Sciences University\, 2501 West 84th Street\, Bloomington\, MN\, 55431\, United States
CATEGORIES:Admissions,Massage Therapy
ATTACH;FMTTYPE=image/jpeg:https://www.nwhealth.edu/wp-content/uploads/2022/08/Homecoming-Winter-Symposium-2022-Hero-Temp-1600x700-1.jpg
ORGANIZER;CN="Admissions":MAILTO:admit@nwhealth.edu
END:VEVENT
BEGIN:VEVENT
DTSTART;TZID=America/Chicago:20260126T113000
DTEND;TZID=America/Chicago:20260126T130000
DTSTAMP:20260419T145758
CREATED:20260121T225518Z
LAST-MODIFIED:20260121T225620Z
UID:33045-1769427000-1769432400@www.nwhealth.edu
SUMMARY:Winter Gathering
DESCRIPTION:
URL:https://www.nwhealth.edu/event/winter-gathering-2/
LOCATION:Cafeteria
CATEGORIES:University Events
ATTACH;FMTTYPE=image/png:https://www.nwhealth.edu/wp-content/uploads/2022/09/Untitled-design-e1741809499995.png
ORGANIZER;CN="Northwestern Health Sciences University":MAILTO:info@nwhealth.edu
END:VEVENT
BEGIN:VEVENT
DTSTART;VALUE=DATE:20260128
DTEND;VALUE=DATE:20260131
DTSTAMP:20260419T145758
CREATED:20260121T224039Z
LAST-MODIFIED:20260122T161112Z
UID:33043-1769558400-1769817599@www.nwhealth.edu
SUMMARY:Augustana University Therapeutic Interventions
DESCRIPTION:
URL:https://www.nwhealth.edu/event/augustana-university-therapeutic-interventions/
LOCATION:Gym
CATEGORIES:Academic
ATTACH;FMTTYPE=image/jpeg:https://www.nwhealth.edu/wp-content/uploads/Augustana.jpg
END:VEVENT
BEGIN:VEVENT
DTSTART;TZID=America/Chicago:20260128T120000
DTEND;TZID=America/Chicago:20260128T130000
DTSTAMP:20260419T145758
CREATED:20260108T175852Z
LAST-MODIFIED:20260108T183137Z
UID:32976-1769601600-1769605200@www.nwhealth.edu
SUMMARY:Webinar: Enhancing Pain Care in FQHCs — A Role for CIH Providers
DESCRIPTION:Enhancing Pain Care | The Case for Complementary and Integrative Health Services within Federally Qualified Health Centers \nClick here to join the webinar \nNorthwestern Health Sciences University invites you to join this webinar on enhancing patient care in Federally Qualified Health Centers (FQHCs) through the integration of complementary and integrative health (CIH) providers (e.g.\, acupuncturists\, chiropractors\, massage therapists\, naturopathic physicians). This session will provide insights and practical advice for integrating CIH to address the urgent need for improved pain care in FQHCs\, limited access to non-pharmacologic treatments\, and the opportunities to expand access to meet community needs. \nRegistration is not mandatory for this webinar.
URL:https://www.nwhealth.edu/event/webinar-enhancing-pain-care-in-fqhcs-a-role-for-cih-providers/
LOCATION:Virtual
ATTACH;FMTTYPE=image/png:https://www.nwhealth.edu/wp-content/uploads/Enhancing-Pain-Care.png
END:VEVENT
BEGIN:VEVENT
DTSTART;VALUE=DATE:20260131
DTEND;VALUE=DATE:20260202
DTSTAMP:20260419T145758
CREATED:20260121T230037Z
LAST-MODIFIED:20260211T162517Z
UID:33046-1769817600-1769990399@www.nwhealth.edu
SUMMARY:Foundations of Applied Kinesiology #2 of 4: Pelvis & Lower Extremities
DESCRIPTION:Saturday 8:00 am-6:00 pm\nSunday 8:00 am-1:45pm
URL:https://www.nwhealth.edu/event/foundations-of-applied-kinesiology-2-of-4-pelvis-lower-extremities/
LOCATION:Fireside Lounge
CATEGORIES:Continuing Education
ATTACH;FMTTYPE=image/png:https://www.nwhealth.edu/wp-content/uploads/2024/03/2-1.png
ORGANIZER;CN="Continuing Education":MAILTO:continuinged@nwhealth.edu
END:VEVENT
BEGIN:VEVENT
DTSTART;VALUE=DATE:20260204
DTEND;VALUE=DATE:20260205
DTSTAMP:20260419T145758
CREATED:20250827T142611Z
LAST-MODIFIED:20260204T154132Z
UID:32086-1770163200-1770249599@www.nwhealth.edu
SUMMARY:Acupuncture Homecoming Course
DESCRIPTION:Acupuncture Strategies for Common Ailments and Injuries – 2 CE Hour (ACU)\, in person\, Feb. 4\, 2026\, Wed\, 5pm-7pm.
URL:https://www.nwhealth.edu/event/acupuncture-homecoming-course/
LOCATION:Northwestern Health Sciences University\, 2501 West 84th Street\, Bloomington\, MN\, 55431\, United States
CATEGORIES:Alumni,Continuing Education,University Events
ATTACH;FMTTYPE=image/jpeg:https://www.nwhealth.edu/wp-content/uploads/2019/04/ACM_1200x600_Apply-now.jpg
ORGANIZER;CN="Continuing Education":MAILTO:continuinged@nwhealth.edu
END:VEVENT
BEGIN:VEVENT
DTSTART;TZID=America/Chicago:20260204T180000
DTEND;TZID=America/Chicago:20260204T193000
DTSTAMP:20260419T145758
CREATED:20251203T162622Z
LAST-MODIFIED:20251203T162622Z
UID:32805-1770228000-1770233400@www.nwhealth.edu
SUMMARY:Post Bacc Prehealth & Human Biology BS Virtual Info Session Feb 2026
DESCRIPTION:You’re Invited: PBPH/ UG Virtual Info Session \nWednesday\, February 4th | 6:00–7:30 PM CST \nJoin our virtual info session to get real advice on how to start your career: from choosing the right program to understanding what it takes to succeed. Discover how Northwestern Health Sciences University can support your path to a fulfilling and rewarding healthcare career. \nRegister here.  \nHear from: \n\nDr. Susan Lawrenz-Smith\, PBPH Program Chair and Associate Professor\nAn experienced Admissions Counselor\n\nDuring this session\, you’ll: \n\nExplore the unique advantages of our Post Baccalaureate Pre-Health and B.S. Completion in Human Biology programs\nLearn how these programs can position you for success in a wide range of healthcare careers\nGet answers to your questions about admissions\, curriculum\, and career paths\n\nDon’t miss this opportunity to connect with faculty and staff\, get personalized insights\, and find out why NWHSU is the right place to advance your healthcare career.
URL:https://www.nwhealth.edu/event/post-bacc-prehealth-human-biology-bs-virtual-info-session-feb-2026/
LOCATION:Virtual
CATEGORIES:Admissions
ATTACH;FMTTYPE=image/jpeg:https://www.nwhealth.edu/wp-content/uploads/2019/04/PBPH_680x400_Accelerate-your-education.jpg
ORGANIZER;CN="Admissions":MAILTO:admit@nwhealth.edu
END:VEVENT
BEGIN:VEVENT
DTSTART;VALUE=DATE:20260205
DTEND;VALUE=DATE:20260209
DTSTAMP:20260419T145758
CREATED:20260121T231009Z
LAST-MODIFIED:20260204T165041Z
UID:33047-1770249600-1770595199@www.nwhealth.edu
SUMMARY:Chiropractic Homecoming Symposium
DESCRIPTION:Join us for the 2026 Chiropractic Homecoming Symposium!\nYou can find more information on the event\, including information on the event’s agenda\, speakers and pricing here. \nYou can register to attend Homecoming below!
URL:https://www.nwhealth.edu/event/chiropractic-homecoming-symposium-2/
LOCATION:Northwestern Health Sciences University\, 2501 West 84th Street\, Bloomington\, MN\, 55431\, United States
CATEGORIES:Alumni,Chiropractic,Continuing Education
ATTACH;FMTTYPE=image/png:https://www.nwhealth.edu/wp-content/uploads/Copy-of-Homecoming-600x400-1.png
ORGANIZER;CN="Continuing Education":MAILTO:continuinged@nwhealth.edu
END:VEVENT
BEGIN:VEVENT
DTSTART;TZID=America/Chicago:20260205T190000
DTEND;TZID=America/Chicago:20260205T210000
DTSTAMP:20260419T145758
CREATED:20250822T162034Z
LAST-MODIFIED:20250916T150816Z
UID:32038-1770318000-1770325200@www.nwhealth.edu
SUMMARY:2026 Homecoming Class Reunion
DESCRIPTION:Homecoming Class Reunion\nFor all alumni who graduated in class years ending in 1 or 6 and all who graduated before 1976!\nGather with colleagues\, classmates\, and friends – both old and new – for an evening to celebrate your class reunion. \nReconnect and meet other NWHSU grads. More details about the program and events for the evening coming soon! Make plans to celebrate! \nRegistration is free and includes hors d’oeuvres\, 2 drink tickets\, and a special reunion gift! \nStaying Overnight? Hotel Accommodations: \nHilton Minneapolis/Bloomington\n3900 American Blvd West\nBloomington\, MN 55437
URL:https://www.nwhealth.edu/event/2026-homecoming-class-reunion/
LOCATION:Hilton Minneapolis-Bloomington\, 3900 American Blvd W\, Bloomington\, MN\, 55437\, United States
CATEGORIES:Alumni
ATTACH;FMTTYPE=image/jpeg:https://www.nwhealth.edu/wp-content/uploads/DSC04412.jpg
ORGANIZER;CN="Alumni Relations":MAILTO:khargis@nwhealth.edu
END:VEVENT
BEGIN:VEVENT
DTSTART;TZID=America/Chicago:20260212T120000
DTEND;TZID=America/Chicago:20260212T130000
DTSTAMP:20260419T145758
CREATED:20260126T212525Z
LAST-MODIFIED:20260205T171833Z
UID:33067-1770897600-1770901200@www.nwhealth.edu
SUMMARY:Financial Aid Q&A
DESCRIPTION:Are you ready to take the next step toward a fulfilling career in healthcare? Don’t let financial concerns hold you back! Join us for an informative and interactive virtual Q&A session on Thursday\, February 12th\, from 12:00 p.m. to 1:00 p.m. CST. \nRegister here.
URL:https://www.nwhealth.edu/event/financial-aid-qa/
LOCATION:Virtual
CATEGORIES:Admissions,Massage Therapy
ATTACH;FMTTYPE=image/jpeg:https://www.nwhealth.edu/wp-content/uploads/2019/04/NWHS-4.16-CampusStudents-27.jpg
ORGANIZER;CN="Admissions":MAILTO:admit@nwhealth.edu
END:VEVENT
BEGIN:VEVENT
DTSTART;TZID=America/Chicago:20260212T120000
DTEND;TZID=America/Chicago:20260212T163000
DTSTAMP:20260419T145758
CREATED:20260211T154329Z
LAST-MODIFIED:20260211T154329Z
UID:33182-1770897600-1770913800@www.nwhealth.edu
SUMMARY:AMSA Blood Drive
DESCRIPTION:NWHSU’s American Medical Student Association will host a Blood Drive from 12 – 4:30pm in the NWHSU Gym\, and you can sign up here. Lunch will be provided!
URL:https://www.nwhealth.edu/event/amsa-blood-drive-2/
LOCATION:Gym
CATEGORIES:University Events
ATTACH;FMTTYPE=image/jpeg:https://www.nwhealth.edu/wp-content/uploads/Blood-Drive.jpg
ORGANIZER;CN="Student Affairs":MAILTO:Student Affairs
END:VEVENT
BEGIN:VEVENT
DTSTART;VALUE=DATE:20260216
DTEND;VALUE=DATE:20260217
DTSTAMP:20260419T145758
CREATED:20201202T192652Z
LAST-MODIFIED:20260211T160936Z
UID:19155-1771200000-1771286399@www.nwhealth.edu
SUMMARY:Holiday - Presidents Day
DESCRIPTION:University closed
URL:https://www.nwhealth.edu/event/holiday-presidents-day-3/
LOCATION:Northwestern Health Sciences University\, 2501 West 84th Street\, Bloomington\, MN\, 55431\, United States
CATEGORIES:University Events
ATTACH;FMTTYPE=image/png:https://www.nwhealth.edu/wp-content/uploads/2022/09/Untitled-design-e1741809499995.png
END:VEVENT
BEGIN:VEVENT
DTSTART;TZID=America/Chicago:20260217T120000
DTEND;TZID=America/Chicago:20260217T130000
DTSTAMP:20260419T145758
CREATED:20250113T151513Z
LAST-MODIFIED:20260211T163653Z
UID:30561-1771329600-1771333200@www.nwhealth.edu
SUMMARY:Chinese Lunar New Year Celebration Hosted by ACM
DESCRIPTION:Lunch provided by ACM Faculty \n\n\nFortune Scratchers\nBINGO with prizes \n\n\nLearn to read your BaZi Chineze Zodiac chart
URL:https://www.nwhealth.edu/event/chinese-lunar-new-year-celebration/
LOCATION:Fireside Lounge
CATEGORIES:University Events
ATTACH;FMTTYPE=image/jpeg:https://www.nwhealth.edu/wp-content/uploads/Lunar-New-Year.jpg
ORGANIZER;CN="Student Affairs":MAILTO:Student Affairs
END:VEVENT
BEGIN:VEVENT
DTSTART;TZID=America/Chicago:20260218T173000
DTEND;TZID=America/Chicago:20260218T183000
DTSTAMP:20260419T145758
CREATED:20260126T170234Z
LAST-MODIFIED:20260126T170234Z
UID:33064-1771435800-1771439400@www.nwhealth.edu
SUMMARY:Radiologic Technology Virtual Info Session - February 2026
DESCRIPTION:Are you interested in pursuing a rewarding career in radiologic technology? \nLearn how NWHSU can help you turn your passion for technology\, science\, and patient care into a successful career in this high-demand field. Join our virtual info session on February 18th from 5:30pm – 6:30pm!  \nRegister here.  \nGain valuable insights from: \n• Carrie Mestas\, Director of the Radiologic Technology Program\n• An experienced admissions counselor \nDuring this session\, you’ll: \n• Discover the essential role of radiologic technologists in healthcare\n• Explore how our hands-on training and flexible schedule can prepare you for success\n• Learn about the curriculum\, clinical placements\, and career opportunities in radiologic technology\n• Get tips for preparing for The American Registry of Radiologic Technologists (ARRT) certification exam \nDon’t miss this opportunity to connect with faculty and staff and find out how NWHSU can help you launch a fulfilling career in radiologic technology.
URL:https://www.nwhealth.edu/event/radiologic-technology-virtual-info-session-february-2026/
LOCATION:Virtual
CATEGORIES:Admissions
ATTACH;FMTTYPE=image/jpeg:https://www.nwhealth.edu/wp-content/uploads/Nutrition-1.jpg
ORGANIZER;CN="Admissions":MAILTO:admit@nwhealth.edu
END:VEVENT
BEGIN:VEVENT
DTSTART;TZID=America/Chicago:20260219T120000
DTEND;TZID=America/Chicago:20260219T130000
DTSTAMP:20260419T145758
CREATED:20260116T171921Z
LAST-MODIFIED:20260116T171921Z
UID:33000-1771502400-1771506000@www.nwhealth.edu
SUMMARY:Nutrition Virtual Info Session - February 2026
DESCRIPTION:Interested in turning your passion for nutrition into a rewarding career? \nJoin our virtual information session on Thursday\, February 19th\, from 12:00 to 1:00 PM CST and learn how Northwestern Health Sciences University’s fully online Nutrition programs can help you reach your professional and academic goals. \nRegister here. \nDuring this session\, you’ll: \n\nDiscover how a career in nutrition can make a lasting impact on individual and community health\nLearn how our flexible\, online programs are designed to fit into your busy life\nHear from:\n• Dr. Sasha Hope\, Program Chair and Assistant Professor\n• An experienced Admissions Counselor\nGet your questions answered about coursework\, career outcomes\, and the application process\n\nThis is a great opportunity to connect with faculty and staff and explore what makes NWHSU the right place to begin—or advance—your journey in nutrition.
URL:https://www.nwhealth.edu/event/nutrition-virtual-info-session-february-2026/
LOCATION:Virtual
CATEGORIES:Admissions
ATTACH;FMTTYPE=image/jpeg:https://www.nwhealth.edu/wp-content/uploads/Web-Image.jpg
ORGANIZER;CN="Admissions":MAILTO:admit@nwhealth.edu
END:VEVENT
END:VCALENDAR