BEGIN:VCALENDAR
VERSION:2.0
PRODID:-//Northwestern Health Sciences University - ECPv6.15.20//NONSGML v1.0//EN
CALSCALE:GREGORIAN
METHOD:PUBLISH
X-WR-CALNAME:Northwestern Health Sciences University
X-ORIGINAL-URL:https://www.nwhealth.edu
X-WR-CALDESC:Events for Northwestern Health Sciences University
REFRESH-INTERVAL;VALUE=DURATION:PT1H
X-Robots-Tag:noindex
X-PUBLISHED-TTL:PT1H
BEGIN:VTIMEZONE
TZID:America/Chicago
BEGIN:DAYLIGHT
TZOFFSETFROM:-0600
TZOFFSETTO:-0500
TZNAME:CDT
DTSTART:20230312T080000
END:DAYLIGHT
BEGIN:STANDARD
TZOFFSETFROM:-0500
TZOFFSETTO:-0600
TZNAME:CST
DTSTART:20231105T070000
END:STANDARD
BEGIN:DAYLIGHT
TZOFFSETFROM:-0600
TZOFFSETTO:-0500
TZNAME:CDT
DTSTART:20240310T080000
END:DAYLIGHT
BEGIN:STANDARD
TZOFFSETFROM:-0500
TZOFFSETTO:-0600
TZNAME:CST
DTSTART:20241103T070000
END:STANDARD
BEGIN:DAYLIGHT
TZOFFSETFROM:-0600
TZOFFSETTO:-0500
TZNAME:CDT
DTSTART:20250309T080000
END:DAYLIGHT
BEGIN:STANDARD
TZOFFSETFROM:-0500
TZOFFSETTO:-0600
TZNAME:CST
DTSTART:20251102T070000
END:STANDARD
END:VTIMEZONE
BEGIN:VEVENT
DTSTART;TZID=America/Chicago:20241101T170000
DTEND;TZID=America/Chicago:20241101T210000
DTSTAMP:20260421T093229
CREATED:20240826T152525Z
LAST-MODIFIED:20240917T201407Z
UID:29430-1730480400-1730494800@www.nwhealth.edu
SUMMARY:CCSP Hands on: Emergency Procedures and Taping for the Sports Chiropractor
DESCRIPTION:
URL:https://www.nwhealth.edu/event/ccsp-hands-on-emergency-procedures-and-taping-for-the-sports-chiropractor/2024-11-01/
LOCATION:Northwestern Health Sciences University\, 2501 West 84th Street\, Bloomington\, MN\, 55431\, United States
CATEGORIES:Continuing Education
ORGANIZER;CN="Northwestern Health Sciences University":MAILTO:info@nwhealth.edu
END:VEVENT
BEGIN:VEVENT
DTSTART;TZID=America/Chicago:20241102T090000
DTEND;TZID=America/Chicago:20241102T170000
DTSTAMP:20260421T093229
CREATED:20240826T152525Z
LAST-MODIFIED:20240917T201408Z
UID:29432-1730538000-1730566800@www.nwhealth.edu
SUMMARY:CCSP Hands on: Emergency Procedures and Taping for the Sports Chiropractor
DESCRIPTION:
URL:https://www.nwhealth.edu/event/ccsp-hands-on-emergency-procedures-and-taping-for-the-sports-chiropractor/2024-11-02/
LOCATION:Northwestern Health Sciences University\, 2501 West 84th Street\, Bloomington\, MN\, 55431\, United States
CATEGORIES:Continuing Education
ORGANIZER;CN="Northwestern Health Sciences University":MAILTO:info@nwhealth.edu
END:VEVENT
BEGIN:VEVENT
DTSTART;TZID=America/Chicago:20241103T090000
DTEND;TZID=America/Chicago:20241103T140000
DTSTAMP:20260421T093229
CREATED:20240826T152525Z
LAST-MODIFIED:20240917T201408Z
UID:29433-1730624400-1730642400@www.nwhealth.edu
SUMMARY:CCSP Hands on: Emergency Procedures and Taping for the Sports Chiropractor
DESCRIPTION:
URL:https://www.nwhealth.edu/event/ccsp-hands-on-emergency-procedures-and-taping-for-the-sports-chiropractor/2024-11-03/
LOCATION:Northwestern Health Sciences University\, 2501 West 84th Street\, Bloomington\, MN\, 55431\, United States
CATEGORIES:Continuing Education
ORGANIZER;CN="Northwestern Health Sciences University":MAILTO:info@nwhealth.edu
END:VEVENT
BEGIN:VEVENT
DTSTART;TZID=America/Chicago:20241107T170000
DTEND;TZID=America/Chicago:20241107T190000
DTSTAMP:20260421T093229
CREATED:20241031T132938Z
LAST-MODIFIED:20241031T132938Z
UID:30081-1730998800-1731006000@www.nwhealth.edu
SUMMARY:T1/T4 Chiropractic Party
DESCRIPTION:
URL:https://www.nwhealth.edu/event/t1-t4-chiropractic-party/
LOCATION:Northwestern Health Sciences University\, 2501 West 84th Street\, Bloomington\, MN\, 55431\, United States
CATEGORIES:University Events
ORGANIZER;CN="Northwestern Health Sciences University":MAILTO:info@nwhealth.edu
END:VEVENT
BEGIN:VEVENT
DTSTART;TZID=America/Chicago:20241109T070000
DTEND;TZID=America/Chicago:20241109T190000
DTSTAMP:20260421T093229
CREATED:20240826T152710Z
LAST-MODIFIED:20240826T152710Z
UID:29434-1731135600-1731178800@www.nwhealth.edu
SUMMARY:Ski Patrol
DESCRIPTION:
URL:https://www.nwhealth.edu/event/ski-patrol/
LOCATION:Northwestern Health Sciences University\, 2501 West 84th Street\, Bloomington\, MN\, 55431\, United States
CATEGORIES:University Events
ORGANIZER;CN="Northwestern Health Sciences University":MAILTO:info@nwhealth.edu
END:VEVENT
BEGIN:VEVENT
DTSTART;TZID=America/Chicago:20241112T173000
DTEND;TZID=America/Chicago:20241112T183000
DTSTAMP:20260421T093229
CREATED:20241104T150627Z
LAST-MODIFIED:20241104T150627Z
UID:30099-1731432600-1731436200@www.nwhealth.edu
SUMMARY:Standard Process - Omega Quant Experience
DESCRIPTION:
URL:https://www.nwhealth.edu/event/standard-process-omega-quant-experience/
LOCATION:Northwestern Health Sciences University\, 2501 West 84th Street\, Bloomington\, MN\, 55431\, United States
CATEGORIES:University Events
ORGANIZER;CN="Student Affairs":MAILTO:Student Affairs
END:VEVENT
BEGIN:VEVENT
DTSTART;TZID=America/Chicago:20241114T170000
DTEND;TZID=America/Chicago:20241114T190000
DTSTAMP:20260421T093229
CREATED:20241028T142548Z
LAST-MODIFIED:20241028T142548Z
UID:30027-1731603600-1731610800@www.nwhealth.edu
SUMMARY:SABCA Heritage Day
DESCRIPTION:
URL:https://www.nwhealth.edu/event/sabca-heritage-day/
LOCATION:Northwestern Health Sciences University\, 2501 West 84th Street\, Bloomington\, MN\, 55431\, United States
CATEGORIES:University Events
ORGANIZER;CN="Northwestern Health Sciences University":MAILTO:info@nwhealth.edu
END:VEVENT
BEGIN:VEVENT
DTSTART;TZID=America/Chicago:20241115T160000
DTEND;TZID=America/Chicago:20241115T200000
DTSTAMP:20260421T093229
CREATED:20240826T153024Z
LAST-MODIFIED:20240917T201613Z
UID:29437-1731686400-1731700800@www.nwhealth.edu
SUMMARY:Dynamic Neuromuscular Dry Needling
DESCRIPTION:
URL:https://www.nwhealth.edu/event/dynamic-neuromuscular-dry-needling/2024-11-15/
LOCATION:Northwestern Health Sciences University\, 2501 West 84th Street\, Bloomington\, MN\, 55431\, United States
CATEGORIES:Continuing Education
ORGANIZER;CN="Northwestern Health Sciences University":MAILTO:info@nwhealth.edu
END:VEVENT
BEGIN:VEVENT
DTSTART;TZID=America/Chicago:20241115T170000
DTEND;TZID=America/Chicago:20241115T210000
DTSTAMP:20260421T093229
CREATED:20240826T152903Z
LAST-MODIFIED:20240917T201441Z
UID:29435-1731690000-1731704400@www.nwhealth.edu
SUMMARY:48 Hour Nutrition Certificate #3 of 4: Toxicity
DESCRIPTION:
URL:https://www.nwhealth.edu/event/48-hour-nutrition-certificate-3-of-4-toxicity/2024-11-15/
LOCATION:Northwestern Health Sciences University\, 2501 West 84th Street\, Bloomington\, MN\, 55431\, United States
CATEGORIES:Continuing Education
ORGANIZER;CN="Northwestern Health Sciences University":MAILTO:info@nwhealth.edu
END:VEVENT
BEGIN:VEVENT
DTSTART;TZID=America/Chicago:20241116T080000
DTEND;TZID=America/Chicago:20241116T200000
DTSTAMP:20260421T093229
CREATED:20240826T153024Z
LAST-MODIFIED:20240917T201614Z
UID:29438-1731744000-1731787200@www.nwhealth.edu
SUMMARY:Dynamic Neuromuscular Dry Needling
DESCRIPTION:
URL:https://www.nwhealth.edu/event/dynamic-neuromuscular-dry-needling/2024-11-16/
LOCATION:Northwestern Health Sciences University\, 2501 West 84th Street\, Bloomington\, MN\, 55431\, United States
CATEGORIES:Continuing Education
ORGANIZER;CN="Northwestern Health Sciences University":MAILTO:info@nwhealth.edu
END:VEVENT
BEGIN:VEVENT
DTSTART;TZID=America/Chicago:20241116T090000
DTEND;TZID=America/Chicago:20241116T180000
DTSTAMP:20260421T093229
CREATED:20240826T152903Z
LAST-MODIFIED:20240917T201441Z
UID:29436-1731747600-1731780000@www.nwhealth.edu
SUMMARY:48 Hour Nutrition Certificate #3 of 4: Toxicity
DESCRIPTION:
URL:https://www.nwhealth.edu/event/48-hour-nutrition-certificate-3-of-4-toxicity/2024-11-16/
LOCATION:Northwestern Health Sciences University\, 2501 West 84th Street\, Bloomington\, MN\, 55431\, United States
CATEGORIES:Continuing Education
ORGANIZER;CN="Northwestern Health Sciences University":MAILTO:info@nwhealth.edu
END:VEVENT
BEGIN:VEVENT
DTSTART;TZID=America/Chicago:20241117T080000
DTEND;TZID=America/Chicago:20241117T170000
DTSTAMP:20260421T093229
CREATED:20240826T153024Z
LAST-MODIFIED:20240917T201614Z
UID:29439-1731830400-1731862800@www.nwhealth.edu
SUMMARY:Dynamic Neuromuscular Dry Needling
DESCRIPTION:
URL:https://www.nwhealth.edu/event/dynamic-neuromuscular-dry-needling/2024-11-17/
LOCATION:Northwestern Health Sciences University\, 2501 West 84th Street\, Bloomington\, MN\, 55431\, United States
CATEGORIES:Continuing Education
ORGANIZER;CN="Northwestern Health Sciences University":MAILTO:info@nwhealth.edu
END:VEVENT
BEGIN:VEVENT
DTSTART;TZID=America/Chicago:20241126T150000
DTEND;TZID=America/Chicago:20241126T170000
DTSTAMP:20260421T093229
CREATED:20241022T132104Z
LAST-MODIFIED:20241022T132104Z
UID:29969-1732633200-1732640400@www.nwhealth.edu
SUMMARY:Dr. Osterbauer's Retirement Party
DESCRIPTION:
URL:https://www.nwhealth.edu/event/dr-osterbauers-retirement-party/
LOCATION:Northwestern Health Sciences University\, 2501 West 84th Street\, Bloomington\, MN\, 55431\, United States
CATEGORIES:University Events
ORGANIZER;CN="Northwestern Health Sciences University":MAILTO:info@nwhealth.edu
END:VEVENT
END:VCALENDAR