BEGIN:VCALENDAR
VERSION:2.0
PRODID:-//Northwestern Health Sciences University - ECPv6.15.20//NONSGML v1.0//EN
CALSCALE:GREGORIAN
METHOD:PUBLISH
X-WR-CALNAME:Northwestern Health Sciences University
X-ORIGINAL-URL:https://www.nwhealth.edu
X-WR-CALDESC:Events for Northwestern Health Sciences University
REFRESH-INTERVAL;VALUE=DURATION:PT1H
X-Robots-Tag:noindex
X-PUBLISHED-TTL:PT1H
BEGIN:VTIMEZONE
TZID:America/Chicago
BEGIN:DAYLIGHT
TZOFFSETFROM:-0600
TZOFFSETTO:-0500
TZNAME:CDT
DTSTART:20250309T080000
END:DAYLIGHT
BEGIN:STANDARD
TZOFFSETFROM:-0500
TZOFFSETTO:-0600
TZNAME:CST
DTSTART:20251102T070000
END:STANDARD
BEGIN:DAYLIGHT
TZOFFSETFROM:-0600
TZOFFSETTO:-0500
TZNAME:CDT
DTSTART:20260308T080000
END:DAYLIGHT
BEGIN:STANDARD
TZOFFSETFROM:-0500
TZOFFSETTO:-0600
TZNAME:CST
DTSTART:20261101T070000
END:STANDARD
BEGIN:DAYLIGHT
TZOFFSETFROM:-0600
TZOFFSETTO:-0500
TZNAME:CDT
DTSTART:20270314T080000
END:DAYLIGHT
BEGIN:STANDARD
TZOFFSETFROM:-0500
TZOFFSETTO:-0600
TZNAME:CST
DTSTART:20271107T070000
END:STANDARD
END:VTIMEZONE
BEGIN:VEVENT
DTSTART;TZID=America/Chicago:20260304T173000
DTEND;TZID=America/Chicago:20260304T183000
DTSTAMP:20260424T081047
CREATED:20260115T165621Z
LAST-MODIFIED:20260115T165621Z
UID:32992-1772645400-1772649000@www.nwhealth.edu
SUMMARY:Integrative Care & Health Coaching Virtual Info Session March 2026
DESCRIPTION:Ready to Turn Your Passion for Holistic Health into a Career?\nJoin us for our Virtual Info Session on March 4th\, from 5:30 pm – 6:30 pm (CST) \nIf you’re inspired by the power of mind-body wellness and want to make a meaningful difference in people’s lives\, this session is for you. \nRegister here. \nDiscover NWHSU’s fully online Integrative Care and Health Coaching programs—designed to prepare you for a dynamic career in the growing field of holistic health. \nHear directly from: \n\nDr. Cheryl Krouse\, Program Chair of Integrative Care\nAn experienced Admissions Counselor\n\nThey’ll guide you through: \n\nThe rising demand for integrative care professionals\nHow our flexible online programs equip you to support others in achieving lasting well-being\nDetails on curriculum\, career paths\, and how to apply\n\nWhy NWHSU? \nOur programs blend evidence-based practices with a whole-person approach to care—so you can lead\, coach\, and inspire in any wellness setting. \nDon’t miss this chance to connect\, ask questions\, and explore your future in holistic health. \nLearn more about our programs and register today! \n\nIntegrative Care\nIntegrative Health & Wellbeing Coaching
URL:https://www.nwhealth.edu/event/integrative-care-health-coaching-virtual-info-session-march-2026/
LOCATION:Virtual
CATEGORIES:Admissions
ATTACH;FMTTYPE=image/jpeg:https://www.nwhealth.edu/wp-content/uploads/2021/02/Nutrition-Course_1000x700.jpg
ORGANIZER;CN="Admissions":MAILTO:admit@nwhealth.edu
END:VEVENT
BEGIN:VEVENT
DTSTART;VALUE=DATE:20260306
DTEND;VALUE=DATE:20260308
DTSTAMP:20260424T081047
CREATED:20250827T142722Z
LAST-MODIFIED:20260211T163429Z
UID:32087-1772755200-1772927999@www.nwhealth.edu
SUMMARY:2026 Massage Therapy Symposium
DESCRIPTION:Innovation meets hands‑on expertise as our dynamic keynote presenters\, Rachelle Clauson and Nicole Trombley—internationally recognized educators and founders of AnatomySCAPES—bring you their engaging approach to fascia‑focused education. \nJoin us to learn\, connect\, and spend some inspiring days with your people!
URL:https://www.nwhealth.edu/event/2026-massage-therapy-symposium/
LOCATION:Northwestern Health Sciences University\, 2501 West 84th Street\, Bloomington\, MN\, 55431\, United States
CATEGORIES:Alumni,Continuing Education,Massage Therapy,University Events
ATTACH;FMTTYPE=image/jpeg:https://www.nwhealth.edu/wp-content/uploads/2020/07/Blog-Massage-Therapy-Questions.jpg
ORGANIZER;CN="Continuing Education":MAILTO:continuinged@nwhealth.edu
END:VEVENT
BEGIN:VEVENT
DTSTART;TZID=America/Chicago:20260312T173000
DTEND;TZID=America/Chicago:20260312T183000
DTSTAMP:20260424T081047
CREATED:20260219T210607Z
LAST-MODIFIED:20260219T210800Z
UID:33323-1773336600-1773340200@www.nwhealth.edu
SUMMARY:Nutrition Virtual Info Session - March 2026
DESCRIPTION:Interested in turning your passion for nutrition into a rewarding career? \nJoin our virtual information session on Thursday\, March 12th\, from 5:30 pm – 6:30 pm CST and learn how Northwestern Health Sciences University’s fully online Nutrition programs can help you reach your professional and academic goals. \nRegister here. \nDuring this session\, you’ll: \n\nDiscover how a career in nutrition can make a lasting impact on individual and community health\nLearn how our flexible\, online programs are designed to fit into your busy life\nHear from:\n• Dr. Sasha Hope\, Program Chair and Assistant Professor\n• An experienced Admissions Counselor\nGet your questions answered about coursework\, career outcomes\, and the application process\n\nThis is a great opportunity to connect with faculty and staff and explore what makes NWHSU the right place to begin—or advance—your journey in nutrition.
URL:https://www.nwhealth.edu/event/nutrition-virtual-info-session-march-2026/
LOCATION:Virtual
CATEGORIES:Admissions
ATTACH;FMTTYPE=image/jpeg:https://www.nwhealth.edu/wp-content/uploads/Web-Image.jpg
ORGANIZER;CN="Admissions":MAILTO:admit@nwhealth.edu
END:VEVENT
BEGIN:VEVENT
DTSTART;VALUE=DATE:20260313
DTEND;VALUE=DATE:20260316
DTSTAMP:20260424T081047
CREATED:20250827T142824Z
LAST-MODIFIED:20251119T162500Z
UID:32088-1773360000-1773619199@www.nwhealth.edu
SUMMARY:2026 Great River Acupuncture and Chinese Medicine Symposium
DESCRIPTION:
URL:https://www.nwhealth.edu/event/2026-great-river-acupuncture-and-chinese-medicine-symposium/
LOCATION:Northwestern Health Sciences University\, 2501 West 84th Street\, Bloomington\, MN\, 55431\, United States
CATEGORIES:Alumni,Continuing Education,University Events
ATTACH;FMTTYPE=image/jpeg:https://www.nwhealth.edu/wp-content/uploads/05222018-26-1.jpg
ORGANIZER;CN="Continuing Education":MAILTO:continuinged@nwhealth.edu
END:VEVENT
BEGIN:VEVENT
DTSTART;TZID=America/Chicago:20260314T100000
DTEND;TZID=America/Chicago:20260314T120000
DTSTAMP:20260424T081047
CREATED:20251215T143859Z
LAST-MODIFIED:20260225T215722Z
UID:31295-1773482400-1773489600@www.nwhealth.edu
SUMMARY:Reiki Renewal Community
DESCRIPTION:Reiki Renewal: A Community Gathering \nJoin us for a time of rejuvenation\, inspiration\, and connection! These community events are designed to bring together Reiki practitioners from all lineages and levels—from new practitioner to seasoned teachers. All are welcome. \nDon’t miss this opportunity to connect\, learn\, and grow with fellow Reiki practitioners. Register now and reserve your spot!
URL:https://www.nwhealth.edu/event/reiki-renewal-community-3/2026-03-14/
LOCATION:NWHSU – Room 209
CATEGORIES:Massage Therapy,University Events
ATTACH;FMTTYPE=image/png:https://www.nwhealth.edu/wp-content/uploads/Reiki-1.png
ORGANIZER;CN="Spring Saldana":MAILTO:ssaldana@nwhealth.edu
END:VEVENT
BEGIN:VEVENT
DTSTART;VALUE=DATE:20260320
DTEND;VALUE=DATE:20260323
DTSTAMP:20260424T081048
CREATED:20240620T191930Z
LAST-MODIFIED:20260225T220058Z
UID:28795-1773964800-1774223999@www.nwhealth.edu
SUMMARY:NBCE Parts 1- III/PHT
DESCRIPTION:
URL:https://www.nwhealth.edu/event/nbce-parts-i-iii-pht/
LOCATION:Northwestern Health Sciences University\, 2501 West 84th Street\, Bloomington\, MN\, 55431\, United States
CATEGORIES:Academic,Continuing Education
ATTACH;FMTTYPE=image/jpeg:https://www.nwhealth.edu/wp-content/uploads/DSC01430-1.jpg
END:VEVENT
BEGIN:VEVENT
DTSTART;TZID=America/Chicago:20260321T090000
DTEND;TZID=America/Chicago:20260321T140000
DTSTAMP:20260424T081048
CREATED:20260126T194508Z
LAST-MODIFIED:20260127T203548Z
UID:33065-1774083600-1774101600@www.nwhealth.edu
SUMMARY:Discovery Day March 2026
DESCRIPTION:Discover Your Future in Healthcare at NWHSU Discovery Day \nJoin us for an immersive experience designed to help you explore your future in natural and integrative healthcare. Whether you’re just beginning your journey or ready to take the next step\, Discovery Day gives you an inside look at the programs\, people\, and opportunities that make Northwestern Health Sciences University unique. \nRegister here. \nDuring Discovery Day\, you’ll: \n\nExperience live demonstrations and interactive sessions\nTour our vibrant campus\nConnect with faculty\, students\, and staff who are shaping the future of healthcare\nLearn about clinical experiences\, internships\, admissions\, and financial aid\nEnjoy a complimentary lunch with fellow future healthcare professionals\n\nPrograms Featured: \n\nChiropractic\nAcupuncture and Chinese Medicine\nMassage Therapy\nRadiation Therapy\nRadiologic Technology\n\nEvent Details: \nEvent begins: 9:00 a.m. (Check-in available starting at 8:30 a.m.) \nEntrance: Use Door #3 \nParking: Free parking is available in all lots \nVisit our Discovery Day page for sample schedules by program and more details.
URL:https://www.nwhealth.edu/event/discovery-day-march-2026/
LOCATION:Northwestern Health Sciences University\, 2501 West 84th Street\, Bloomington\, MN\, 55431\, United States
CATEGORIES:Admissions,Massage Therapy
ATTACH;FMTTYPE=image/png:https://www.nwhealth.edu/wp-content/uploads/2024/02/nwhsu-1600x700-1.png
ORGANIZER;CN="Admissions":MAILTO:admit@nwhealth.edu
END:VEVENT
END:VCALENDAR